{ "currentVersion": 10.91, "serviceDescription": "
A digital elevation model (DEM) for North Carolina. The grid cell size is 20 feet. Data used to create the DEM was derived from LIDAR collected by NC Floodplain Mapping Program and processed by NC DOT - GIS Unit. NOTE: This should only be used as an image service. If there is a need to download elevation data go to NC Emergency Management's Spatial Data Download site at https://sdd.nc.gov. Do not use the Download menu in ArcGIS Hub.<\/span><\/p> A hillshade map. Grid cell size is 20 ft. A vertical exaggeration factor of 3 used for visual effect. Data derived from LIDAR collected by NC Floodplain Mapping Program and processed by NC DOT - GIS Unit.<\/span><\/p><\/div><\/div><\/div>",
"name": "Elevation/DEM20ft_Hillshade",
"description": " A digital elevation model (DEM) for North Carolina. The grid cell size is 20 feet. Data used to create the DEM was derived from LIDAR collected by NC Floodplain Mapping Program and processed by NC DOT - GIS Unit. NOTE: This should only be used as an image service. If there is a need to download elevation data go to NC Emergency Management's Spatial Data Download site at https://sdd.nc.gov. Do not use the Download menu in ArcGIS Hub.<\/span><\/p> A hillshade map. Grid cell size is 20 ft. A vertical exaggeration factor of 3 used for visual effect. Data derived from LIDAR collected by NC Floodplain Mapping Program and processed by NC DOT - GIS Unit.<\/span><\/p><\/div><\/div><\/div>",
"extent": {
"xmin": 406806.66688221693,
"ymin": 32359.999838471413,
"xmax": 3052346.666882217,
"ymax": 1043619.9998384714,
"spatialReference": {
"wkid": 102719,
"latestWkid": 2264
}
},
"initialExtent": {
"xmin": 406806.66688221693,
"ymin": 32359.999838471413,
"xmax": 3052346.666882217,
"ymax": 1043619.9998384714,
"spatialReference": {
"wkid": 102719,
"latestWkid": 2264
}
},
"fullExtent": {
"xmin": 406806.66688221693,
"ymin": 32359.999838471413,
"xmax": 3052346.666882217,
"ymax": 1043619.9998384714,
"spatialReference": {
"wkid": 102719,
"latestWkid": 2264
}
},
"hasMultidimensions": false,
"pixelSizeX": 20,
"pixelSizeY": 20,
"datasetFormat": "AMD",
"uncompressedSize": 13376643902,
"blockWidth": 2048,
"blockHeight": 256,
"compressionType": "None",
"bandNames": [
"Band_1"
],
"allowCopy": true,
"allowAnalysis": true,
"bandCount": 1,
"noDataValue": 32767,
"noDataValues": [
32767
],
"pixelType": "S16",
"minPixelSize": 0,
"maxPixelSize": 0,
"copyrightText": "NC OneMap, NC Center for Geographic Information and Analysis; NC Dept. of Transportation - GIS Unit; NC Floodplain Mapping Program",
"serviceDataType": "esriImageServiceDataTypeGeneric",
"serviceSourceType": "esriImageServiceSourceTypeMosaicDataset",
"minValues": [
-131
],
"maxValues": [
6682
],
"meanValues": [
700.0872829012287
],
"stdvValues": [
994.2718067223889
],
"objectIdField": "objectid",
"fields": [
{
"name": "objectid",
"type": "esriFieldTypeOID",
"alias": "OBJECTID",
"domain": null
},
{
"name": "name",
"type": "esriFieldTypeString",
"alias": "Name",
"domain": null,
"length": 200
},
{
"name": "minps",
"type": "esriFieldTypeDouble",
"alias": "MinPS",
"domain": null
},
{
"name": "maxps",
"type": "esriFieldTypeDouble",
"alias": "MaxPS",
"domain": null
},
{
"name": "lowps",
"type": "esriFieldTypeDouble",
"alias": "LowPS",
"domain": null
},
{
"name": "highps",
"type": "esriFieldTypeDouble",
"alias": "HighPS",
"domain": null
},
{
"name": "category",
"type": "esriFieldTypeInteger",
"alias": "Category",
"domain": {
"type": "codedValue",
"name": "MosaicCatalogItemCategoryDomain",
"description": "Catalog item categories.",
"codedValues": [
{
"name": "Unknown",
"code": 0
},
{
"name": "Primary",
"code": 1
},
{
"name": "Overview",
"code": 2
},
{
"name": "Unprocessed Overview",
"code": 3
},
{
"name": "Partial Overview",
"code": 4
},
{
"name": "Inactive",
"code": 5
},
{
"name": "Uploaded",
"code": 253
},
{
"name": "Incomplete",
"code": 254
},
{
"name": "Custom",
"code": 255
}
],
"mergePolicy": "esriMPTDefaultValue",
"splitPolicy": "esriSPTDefaultValue"
}
},
{
"name": "tag",
"type": "esriFieldTypeString",
"alias": "Tag",
"domain": null,
"length": 100
},
{
"name": "groupname",
"type": "esriFieldTypeString",
"alias": "GroupName",
"domain": null,
"length": 100
},
{
"name": "productname",
"type": "esriFieldTypeString",
"alias": "ProductName",
"domain": null,
"length": 100
},
{
"name": "centerx",
"type": "esriFieldTypeDouble",
"alias": "CenterX",
"domain": null
},
{
"name": "centery",
"type": "esriFieldTypeDouble",
"alias": "CenterY",
"domain": null
},
{
"name": "zorder",
"type": "esriFieldTypeInteger",
"alias": "ZOrder",
"domain": null
},
{
"name": "shape",
"type": "esriFieldTypeGeometry",
"alias": "Shape",
"domain": null
}
],
"capabilities": "Catalog,Mensuration,Pixels,Download,Image,Metadata",
"defaultMosaicMethod": "Northwest",
"allowedMosaicMethods": "NorthWest,Center,LockRaster,ByAttribute,Nadir,Viewpoint,Seamline,None",
"sortField": "",
"sortValue": null,
"sortAscending": true,
"mosaicOperator": "First",
"maxDownloadSizeLimit": 2048,
"defaultCompressionQuality": 10000,
"defaultResamplingMethod": "Bilinear",
"maxImageHeight": 10000,
"maxImageWidth": 15000,
"maxRecordCount": 1000,
"maxDownloadImageCount": 20,
"maxMosaicImageCount": 20,
"allowRasterFunction": true,
"rasterFunctionInfos": [
{
"name": "hillshade",
"description": "A raster function template.",
"help": ""
},
{
"name": "None",
"description": "Make a Raster or Raster Dataset into a Function Raster Dataset.",
"help": ""
}
],
"rasterTypeInfos": [
{
"name": "Raster Dataset",
"description": "Supports all ArcGIS Raster Datasets",
"help": ""
}
],
"mensurationCapabilities": "Basic",
"hasHistograms": true,
"hasColormap": false,
"hasRasterAttributeTable": false,
"minScale": 0,
"maxScale": 0,
"exportTilesAllowed": false,
"supportsStatistics": true,
"supportsAdvancedQueries": true,
"editFieldsInfo": null,
"ownershipBasedAccessControlForRasters": null,
"allowComputeTiePoints": false,
"useStandardizedQueries": true,
"advancedQueryCapabilities": {
"useStandardizedQueries": true,
"supportsStatistics": true,
"supportsOrderBy": true,
"supportsDistinct": true,
"supportsPagination": true
},
"spatialReference": {
"wkid": 102719,
"latestWkid": 2264
}
}