{ "currentVersion": 10.91, "serviceDescription": "
This dataset contains lidar change-detection information for 27 Western North Carolina Counties. This data supports the North Carolina Geological Survey's (NCGS) independent review of potential landslides and other ground-surface changes. It is based on lidar data published by the North Carolina Department of Public Safety for the years 2016, 2017, and 2025. Two raster function templates are included to perform the necessary preprocessing. NCGS_LCD_classifier provides a pre-rendered, cartographic version of the data whlle NCGS_LCD supports analyses and allows users to view actual gain/loss values for impacted areas.<\/span><\/p><\/div><\/div><\/div>",
"name": "Elevation/NC_land_change_detection",
"description": " This dataset contains lidar change-detection information for 27 Western North Carolina Counties. This data supports the North Carolina Geological Survey's (NCGS) independent review of potential landslides and other ground-surface changes. It is based on lidar data published by the North Carolina Department of Public Safety for the years 2016, 2017, and 2025. Two raster function templates are included to perform the necessary preprocessing. NCGS_LCD_classifier provides a pre-rendered, cartographic version of the data whlle NCGS_LCD supports analyses and allows users to view actual gain/loss values for impacted areas.<\/span><\/p><\/div><\/div><\/div>",
"extent": {
"xmin": 406811.8600268811,
"ymin": 479998.4064127186,
"xmax": 1697501.8548091212,
"ymax": 1043659.2898406386,
"spatialReference": {
"wkid": 103122,
"latestWkid": 6543
}
},
"initialExtent": {
"xmin": 406811.8600268811,
"ymin": 479998.4064127186,
"xmax": 1697501.8548091212,
"ymax": 1043659.2898406386,
"spatialReference": {
"wkid": 103122,
"latestWkid": 6543
}
},
"fullExtent": {
"xmin": 406811.8600268811,
"ymin": 479998.4064127186,
"xmax": 1697501.8548091212,
"ymax": 1043659.2898406386,
"spatialReference": {
"wkid": 103122,
"latestWkid": 6543
}
},
"hasMultidimensions": false,
"pixelSizeX": 1.49989192,
"pixelSizeY": 1.49989192,
"datasetFormat": "AMD",
"uncompressedSize": 1293540112488,
"blockWidth": 2048,
"blockHeight": 256,
"compressionType": "None",
"bandNames": [
"Band_1"
],
"allowCopy": true,
"allowAnalysis": true,
"bandCount": 1,
"noDataValue": -32767,
"noDataValues": [
-32767
],
"pixelType": "U32",
"minPixelSize": 0,
"maxPixelSize": 0,
"copyrightText": "NCGS",
"serviceDataType": "esriImageServiceDataTypeGeneric",
"serviceSourceType": "esriImageServiceSourceTypeMosaicDataset",
"minValues": [
-29102
],
"maxValues": [
18719
],
"meanValues": [
-2.3963120894125254
],
"stdvValues": [
71.68178255675885
],
"objectIdField": "objectid",
"fields": [
{
"name": "objectid",
"type": "esriFieldTypeOID",
"alias": "objectid",
"domain": null
},
{
"name": "name",
"type": "esriFieldTypeString",
"alias": "name",
"domain": null,
"length": 200
},
{
"name": "minps",
"type": "esriFieldTypeDouble",
"alias": "minps",
"domain": null
},
{
"name": "maxps",
"type": "esriFieldTypeDouble",
"alias": "maxps",
"domain": null
},
{
"name": "lowps",
"type": "esriFieldTypeDouble",
"alias": "lowps",
"domain": null
},
{
"name": "highps",
"type": "esriFieldTypeDouble",
"alias": "highps",
"domain": null
},
{
"name": "category",
"type": "esriFieldTypeInteger",
"alias": "category",
"domain": {
"type": "codedValue",
"name": "MosaicCatalogItemCategoryDomain",
"description": "Catalog item categories.",
"codedValues": [
{
"name": "Unknown",
"code": 0
},
{
"name": "Primary",
"code": 1
},
{
"name": "Overview",
"code": 2
},
{
"name": "Unprocessed Overview",
"code": 3
},
{
"name": "Partial Overview",
"code": 4
},
{
"name": "Inactive",
"code": 5
},
{
"name": "Uploaded",
"code": 253
},
{
"name": "Incomplete",
"code": 254
},
{
"name": "Custom",
"code": 255
}
],
"mergePolicy": "esriMPTDefaultValue",
"splitPolicy": "esriSPTDefaultValue"
}
},
{
"name": "tag",
"type": "esriFieldTypeString",
"alias": "tag",
"domain": null,
"length": 100
},
{
"name": "groupname",
"type": "esriFieldTypeString",
"alias": "groupname",
"domain": null,
"length": 100
},
{
"name": "productname",
"type": "esriFieldTypeString",
"alias": "productname",
"domain": null,
"length": 100
},
{
"name": "centerx",
"type": "esriFieldTypeDouble",
"alias": "centerx",
"domain": null
},
{
"name": "centery",
"type": "esriFieldTypeDouble",
"alias": "centery",
"domain": null
},
{
"name": "zorder",
"type": "esriFieldTypeInteger",
"alias": "zorder",
"domain": null
},
{
"name": "shape",
"type": "esriFieldTypeGeometry",
"alias": "shape",
"domain": null
}
],
"capabilities": "Catalog,Mensuration,Pixels,Image,Metadata",
"defaultMosaicMethod": "Center",
"allowedMosaicMethods": "Center,NorthWest,LockRaster,ByAttribute,Nadir,Viewpoint,Seamline,None",
"sortField": "",
"sortValue": null,
"sortAscending": true,
"mosaicOperator": "First",
"maxDownloadSizeLimit": 2048,
"defaultCompressionQuality": 10000,
"defaultResamplingMethod": "Bilinear",
"maxImageHeight": 4100,
"maxImageWidth": 15000,
"maxRecordCount": 1000,
"maxDownloadImageCount": 20,
"maxMosaicImageCount": 30,
"allowRasterFunction": true,
"rasterFunctionInfos": [
{
"name": "NCGS_LCD",
"description": "Multiplies cell values x 0.01 to get true height. Symbolized based on colormap. ",
"help": ""
},
{
"name": "NCGS_LCD_classifier",
"description": "Multiplies cell values x 0.01 to get true height. Symbolized based on colormap. ",
"help": ""
},
{
"name": "None",
"description": "",
"help": ""
}
],
"rasterTypeInfos": [
{
"name": "Raster Dataset",
"description": "Supports all ArcGIS Raster Datasets",
"help": ""
}
],
"mensurationCapabilities": "Basic",
"hasHistograms": true,
"hasColormap": false,
"hasRasterAttributeTable": false,
"minScale": 0,
"maxScale": 0,
"exportTilesAllowed": false,
"supportsStatistics": true,
"supportsAdvancedQueries": true,
"editFieldsInfo": null,
"ownershipBasedAccessControlForRasters": null,
"allowComputeTiePoints": false,
"useStandardizedQueries": true,
"advancedQueryCapabilities": {
"useStandardizedQueries": true,
"supportsStatistics": true,
"supportsOrderBy": true,
"supportsDistinct": true,
"supportsPagination": true
},
"spatialReference": {
"wkid": 103122,
"latestWkid": 6543
}
}