{ "currentVersion": 10.71, "serviceDescription": "
The data provide an estimate of flood extent following Hurricane Florence (2018) across the Piedmont and Coastal Plain of North Carolina. Flooded and non-flooded regions were delineated using a random forest classification model leveraging pre- and post-storm synthetic aperture radar from the European Space Agency's Sentinel-1 sensor, in addition to topography, floodplain, and landcover data. The classification model was trained with USGS and NCDEMS high-water marks, in addition to flooded and non-flooded regions delineated from high-resolution NOAA aerial photography; the model achieved 92% accuracy against an independent withheld sample. This effort was aimed at identifying inland flooding and not storm surge. This dataset is not intended to replace North Carolina's Floodplain Mapping Program hazard projections. For additional details regarding the methods, please see the peer-reviewed publication and code and data archives referenced in the Credits below. <\/span><\/p><\/div><\/div><\/div>",
"name": "Florence_Flood_Extent",
"description": " The data provide an estimate of flood extent following Hurricane Florence (2018) across the Piedmont and Coastal Plain of North Carolina. Flooded and non-flooded regions were delineated using a random forest classification model leveraging pre- and post-storm synthetic aperture radar from the European Space Agency's Sentinel-1 sensor, in addition to topography, floodplain, and landcover data. The classification model was trained with USGS and NCDEMS high-water marks, in addition to flooded and non-flooded regions delineated from high-resolution NOAA aerial photography; the model achieved 92% accuracy against an independent withheld sample. This effort was aimed at identifying inland flooding and not storm surge. This dataset is not intended to replace North Carolina's Floodplain Mapping Program hazard projections. For additional details regarding the methods, please see the peer-reviewed publication and code and data archives referenced in the Credits below. <\/span><\/p><\/div><\/div><\/div>",
"extent": {
"xmin": 406823.4248353291,
"ymin": 2690.2551194123225,
"xmax": 3070269.541501995,
"ymax": 1043633.0551194123,
"spatialReference": {
"wkid": 102719,
"latestWkid": 2264
}
},
"initialExtent": {
"xmin": 406823.4248353291,
"ymin": 2690.2551194123225,
"xmax": 3070269.541501995,
"ymax": 1043633.0551194123,
"spatialReference": {
"wkid": 102719,
"latestWkid": 2264
}
},
"fullExtent": {
"xmin": 406823.4248353291,
"ymin": 2690.2551194123225,
"xmax": 3070269.541501995,
"ymax": 1043633.0551194123,
"spatialReference": {
"wkid": 102719,
"latestWkid": 2264
}
},
"pixelSizeX": 65.61666666666666,
"pixelSizeY": 65.61666666666666,
"bandCount": 1,
"pixelType": "U8",
"minPixelSize": 0,
"maxPixelSize": 0,
"copyrightText": "Schaffer-Smith, D., Myint, S.W., Muenich, R.L., Tong, D., and DeMeester, J.E. 2020. Repeated hurricanes reveal risks and opportunities for social-ecological resilience to flooding and water quality problems. Environmental Science & Technology.\t\t\tSchaffer-Smith, D. 2020. Hurricanes Matthew and Florence: impacts and opportunities to improve floodplain management. Knowledge Network for Biocomplexity. doi:10.5063/F1SB443J. https://knb.ecoinformatics.org/\t\t\tSchaffer-Smith, D. 2020. Supporting code for: Schaffer-Smith, D., Myint, S.W., Muenich, R.L., Tong, D., & DeMeester, J.E. 2020. Repeated hurricanes reveal risks and opportunities for social-ecological resilience to flooding and water quality problems. Environmental Science & Technology. https://github.com/dschaffersmith/repeatFloodingNC",
"serviceDataType": "esriImageServiceDataTypeThematic",
"minValues": [
0
],
"maxValues": [
1
],
"meanValues": [
0.10271483753158
],
"stdvValues": [
0.30358606658683
],
"objectIdField": "",
"fields": [],
"capabilities": "Mensuration,Image,Metadata",
"defaultMosaicMethod": "Center",
"allowedMosaicMethods": "",
"sortField": "",
"sortValue": null,
"mosaicOperator": "First",
"defaultCompressionQuality": 75,
"defaultResamplingMethod": "Bilinear",
"maxImageHeight": 4100,
"maxImageWidth": 15000,
"allowRasterFunction": true,
"rasterFunctionInfos": [
{
"name": "florence",
"description": "A raster function template.",
"help": ""
},
{
"name": "None",
"description": "",
"help": ""
}
],
"rasterTypeInfos": [
{
"name": "Raster Dataset",
"description": "Supports all ArcGIS Raster Datasets",
"help": ""
}
],
"mensurationCapabilities": "Basic",
"hasHistograms": true,
"hasColormap": false,
"hasRasterAttributeTable": false,
"minScale": 0,
"maxScale": 0,
"exportTilesAllowed": false,
"hasMultidimensions": false,
"supportsStatistics": false,
"supportsAdvancedQueries": false,
"editFieldsInfo": null,
"ownershipBasedAccessControlForRasters": null,
"allowComputeTiePoints": false,
"useStandardizedQueries": true,
"advancedQueryCapabilities": {
"useStandardizedQueries": true,
"supportsStatistics": false,
"supportsOrderBy": false,
"supportsDistinct": false,
"supportsPagination": false
},
"spatialReference": {
"wkid": 102719,
"latestWkid": 2264
}
}