View In:
ArcGIS JavaScript
ArcGIS Online Map Viewer
ArcGIS Earth
ArcMap
View Footprint In:
ArcGIS Online Map Viewer
Service Description: These digital images of aerial photographs have had the displacements caused by the camera and terrain removed. Each image represents 1/4 of a standard USGS 7.5 minute quadrangle map extent. The images are black and white, compressed .jpg format, 256 radiometric brightness levels-of-grey and contain no attributes. The original uncompressed format files are in .bip. The images were flown in 1993 - 1995 as conditions and photo quality allowed. The images have a resolution of 1 ground meter and have been pixel rectified to create a spatially accurate image.
Name: Imagery/DOQQ_NC_1993
Description: These digital images of aerial photographs have had the displacements caused by the camera and terrain removed. Each image represents 1/4 of a standard USGS 7.5 minute quadrangle map extent. The images are black and white, compressed .jpg format, 256 radiometric brightness levels-of-grey and contain no attributes. The original uncompressed format files are in .bip. The images were flown in 1993 - 1995 as conditions and photo quality allowed. The images have a resolution of 1 ground meter and have been pixel rectified to create a spatially accurate image.
Single Fused Map Cache: false
Extent:
XMin: 118847.45880000172
YMin: 6997.135700001789
XMax: 932768.4587999935
YMax: 322366.1356999986
Spatial Reference: 32119
(32119)
LatestVCSWkid(0)
Initial Extent:
XMin: 118847.45880000172
YMin: 6997.135700001789
XMax: 932768.4587999935
YMax: 322366.1356999986
Spatial Reference: 32119
(32119)
LatestVCSWkid(0)
Full Extent:
XMin: 118847.45880000172
YMin: 6997.135700001789
XMax: 932768.4587999935
YMax: 322366.1356999986
Spatial Reference: 32119
(32119)
LatestVCSWkid(0)
Pixel Size X: 0.9999999999999899
Pixel Size Y: 0.9999999999999899
Band Count: 1
Pixel Type: U8
RasterFunction Infos: {"rasterFunctionInfos": [{
"name": "None",
"description": "",
"help": ""
}]}
Mensuration Capabilities: Basic
Has Histograms: true
Has Colormap: false
Has Multi Dimensions : false
Rendering Rule:
Min Scale: 0
Max Scale: 0
Copyright Text: NCCGIA, NCDOT, NC Geologic Survey; USGS, NPS, US ACE (Wilmington), US DOI, NRCS
Service Data Type: esriImageServiceDataTypeProcessed
Min Values: 0
Max Values: 255
Mean Values: 108.9953445201533
Standard Deviation Values: 24.243818418112205
Object ID Field: objectid
Fields:
-
objectid
(
type: esriFieldTypeOID, alias: OBJECTID
)
-
name
(
type: esriFieldTypeString, alias: Name, length: 200
)
-
minps
(
type: esriFieldTypeDouble, alias: MinPS
)
-
maxps
(
type: esriFieldTypeDouble, alias: MaxPS
)
-
lowps
(
type: esriFieldTypeDouble, alias: LowPS
)
-
highps
(
type: esriFieldTypeDouble, alias: HighPS
)
-
category
(
type: esriFieldTypeInteger, alias: Category
, Coded Values:
[0: Unknown]
, [1: Primary]
, [2: Overview]
, ...6 more...
)
-
tag
(
type: esriFieldTypeString, alias: Tag, length: 100
)
-
groupname
(
type: esriFieldTypeString, alias: GroupName, length: 100
)
-
productname
(
type: esriFieldTypeString, alias: ProductName, length: 100
)
-
centerx
(
type: esriFieldTypeDouble, alias: CenterX
)
-
centery
(
type: esriFieldTypeDouble, alias: CenterY
)
-
zorder
(
type: esriFieldTypeInteger, alias: ZOrder
)
-
date
(
type: esriFieldTypeDate, alias: Date, length: 8
)
-
shape
(
type: esriFieldTypeGeometry, alias: Shape
)
Default Mosaic Method: Northwest
Allowed Mosaic Methods: NorthWest,Center,LockRaster,ByAttribute,Nadir,Viewpoint,Seamline,None
SortField:
SortValue: null
Mosaic Operator: First
Default Compression Quality: 75
Default Resampling Method: Bilinear
Max Record Count: 1000
Max Image Height: 10000
Max Image Width: 15000
Max Download Image Count: 20
Max Mosaic Image Count: 20
Allow Raster Function: true
Allow Copy: true
Allow Analysis: true
Allow Compute TiePoints: false
Supports Statistics: true
Supports Advanced Queries: true
Use StandardizedQueries: true
Raster Type Infos:
Name: Raster Dataset
Description: Supports all ArcGIS Raster Datasets
Help:
Has Raster Attribute Table: false
Edit Fields Info: null
Ownership Based AccessControl For Rasters: null
Child Resources:
Info
Histograms
Statistics
Key Properties
Legend
Raster Function Infos
Supported Operations:
Export Image
Query
Identify
Measure
Compute Histograms
Compute Statistics Histograms
Get Samples
Compute Class Statistics
Query Boundary
Compute Pixel Location
Compute Angles
Validate
Project