{ "currentVersion": 10.91, "serviceDescription": "

Change abstract according to year.<\/span><\/p>
Depicts imagery (3-band, true color) for the <NUMBER> counties representing <REGION NAME> of North Carolina. The imagery was flown in YYYY as part of the NC Orthoimagery Program and has a pixel resolution of 6 inches. The RMSE is 1.0 ft X and Y. Pixel values have been altered during processing so this data is best suited for general viewing and should not be used for raster analysis. <\/span><\/p><\/div><\/div><\/div>", "name": "Imagery/Orthoimagery_1996", "description": "

Change abstract according to year.<\/span><\/p>
Depicts imagery (3-band, true color) for the <NUMBER> counties representing <REGION NAME> of North Carolina. The imagery was flown in YYYY as part of the NC Orthoimagery Program and has a pixel resolution of 6 inches. The RMSE is 1.0 ft X and Y. Pixel values have been altered during processing so this data is best suited for general viewing and should not be used for raster analysis. <\/span><\/p><\/div><\/div><\/div>", "extent": { "xmin": 2879999.00008063, "ymin": 540000.7499537319, "xmax": 3059999.00008063, "ymax": 920000.2499537319, "spatialReference": { "wkid": 103122, "latestWkid": 6543 } }, "initialExtent": { "xmin": 2879999.00008063, "ymin": 540000.7499537319, "xmax": 3059999.00008063, "ymax": 920000.2499537319, "spatialReference": { "wkid": 103122, "latestWkid": 6543 } }, "fullExtent": { "xmin": 2879999.00008063, "ymin": 540000.7499537319, "xmax": 3059999.00008063, "ymax": 920000.2499537319, "spatialReference": { "wkid": 103122, "latestWkid": 6543 } }, "hasMultidimensions": false, "pixelSizeX": 0.5, "pixelSizeY": 0.5, "datasetFormat": "AMD", "uncompressedSize": 820798920000, "blockWidth": 2048, "blockHeight": 256, "compressionType": "None", "bandNames": [ "Band_1", "Band_2", "Band_3" ], "allowCopy": true, "allowAnalysis": true, "bandCount": 3, "pixelType": "U8", "minPixelSize": 0, "maxPixelSize": 0, "copyrightText": "NCCGIA, NC 911 Board", "serviceDataType": "esriImageServiceDataTypeProcessed", "serviceSourceType": "esriImageServiceSourceTypeMosaicDataset", "minValues": [ 0, 0, 0 ], "maxValues": [ 255, 255, 255 ], "meanValues": [ 95.5657228322552, 93.23931179961164, 80.26331156964221 ], "stdvValues": [ 43.40799302223373, 39.06687806956302, 34.13712826869412 ], "objectIdField": "objectid", "fields": [ { "name": "objectid", "type": "esriFieldTypeOID", "alias": "OBJECTID", "domain": null }, { "name": "name", "type": "esriFieldTypeString", "alias": "Name", "domain": null, "length": 200 }, { "name": "minps", "type": "esriFieldTypeDouble", "alias": "MinPS", "domain": null }, { "name": "maxps", "type": "esriFieldTypeDouble", "alias": "MaxPS", "domain": null }, { "name": "lowps", "type": "esriFieldTypeDouble", "alias": "LowPS", "domain": null }, { "name": "highps", "type": "esriFieldTypeDouble", "alias": "HighPS", "domain": null }, { "name": "category", "type": "esriFieldTypeInteger", "alias": "Category", "domain": { "type": "codedValue", "name": "MosaicCatalogItemCategoryDomain", "description": "Catalog item categories.", "codedValues": [ { "name": "Unknown", "code": 0 }, { "name": "Primary", "code": 1 }, { "name": "Overview", "code": 2 }, { "name": "Unprocessed Overview", "code": 3 }, { "name": "Partial Overview", "code": 4 }, { "name": "Inactive", "code": 5 }, { "name": "Uploaded", "code": 253 }, { "name": "Incomplete", "code": 254 }, { "name": "Custom", "code": 255 } ], "mergePolicy": "esriMPTDefaultValue", "splitPolicy": "esriSPTDefaultValue" } }, { "name": "tag", "type": "esriFieldTypeString", "alias": "Tag", "domain": null, "length": 100 }, { "name": "groupname", "type": "esriFieldTypeString", "alias": "GroupName", "domain": null, "length": 100 }, { "name": "productname", "type": "esriFieldTypeString", "alias": "ProductName", "domain": null, "length": 100 }, { "name": "centerx", "type": "esriFieldTypeDouble", "alias": "CenterX", "domain": null }, { "name": "centery", "type": "esriFieldTypeDouble", "alias": "CenterY", "domain": null }, { "name": "zorder", "type": "esriFieldTypeInteger", "alias": "ZOrder", "domain": null }, { "name": "date", "type": "esriFieldTypeDate", "alias": "date", "domain": null, "length": 8 }, { "name": "shape", "type": "esriFieldTypeGeometry", "alias": "Shape", "domain": null } ], "capabilities": "Catalog,Mensuration,Image,Metadata", "defaultMosaicMethod": "Northwest", "allowedMosaicMethods": "NorthWest,Center,LockRaster,ByAttribute,Nadir,Viewpoint,Seamline,None", "sortField": "", "sortValue": null, "sortAscending": true, "mosaicOperator": "First", "maxDownloadSizeLimit": 2048, "defaultCompressionQuality": 80, "defaultResamplingMethod": "Bilinear", "maxImageHeight": 4100, "maxImageWidth": 15000, "maxRecordCount": 1000, "maxDownloadImageCount": 20, "maxMosaicImageCount": 20, "allowRasterFunction": true, "rasterFunctionInfos": [ { "name": "None", "description": "", "help": "" } ], "rasterTypeInfos": [ { "name": "Raster Dataset", "description": "Supports all ArcGIS Raster Datasets", "help": "" } ], "mensurationCapabilities": "Basic", "hasHistograms": true, "hasColormap": false, "hasRasterAttributeTable": false, "minScale": 0, "maxScale": 0, "exportTilesAllowed": false, "supportsStatistics": true, "supportsAdvancedQueries": true, "editFieldsInfo": null, "ownershipBasedAccessControlForRasters": null, "allowComputeTiePoints": false, "useStandardizedQueries": true, "advancedQueryCapabilities": { "useStandardizedQueries": true, "supportsStatistics": true, "supportsOrderBy": true, "supportsDistinct": true, "supportsPagination": true }, "spatialReference": { "wkid": 103122, "latestWkid": 6543 } }