{ "currentVersion": 10.91, "serviceDescription": "
\n NOTE:<\/u><\/strong> DO NOT DOWNLOAD THE IMAGERY BY USING THE MAP OR DOWNLOAD TOOLS ON THIS ARCGIS HUB ITEM PAGE. IT WILL RESULT IN A PIXELATED ORTHOIMAGE. INSTEAD, DOWNLOAD THE IMAGERY BY TILE<\/strong><\/a> OR BY COUNTY MOSAIC<\/a> (2010 - current year).\n<\/div>\n
\n \n State map showing image project areas between 2012 and 2015\n

<\/p>\n \n<\/div>\n

\n The NC Orthoimagery Program<\/a> collects and produces 6-inch (15cm) orthoimagery on a 4-year cycle. Approximately a quarter of the state is flown each year to develop streaming imagery services, 5,000' by 5,000' tiles, and compressed single-file county mosaics. Beginning in 2020, the State started collecting a fourth band (near infrared) of imagery which, when combined with the other 3 bands of red, green, and blue, opens new possibilities for exploration and analysis.\n<\/p>\n

\n This service contains 3-band, natural color imagery collected by the NC Orthoimagery Program<\/a> for any given area of North Carolina between 2012 and 2015. The imagery has a pixel resolution of 6 inches with an RMSE of 1.0 ft X and Y. Individual pixel values may have been altered during image processing. Therefore, this service should be used for general reference and viewing. This data is also available as a WMS<\/a> service. Image analysis requiring examination of individual pixel values is discouraged. \n<\/p>\n

\n To find specific dates the images were captured use the imagery dates app<\/a> or download the data<\/a>.\n<\/p>\n

\n Viewing the latest imagery<\/strong>
\n Several web services are also available that depict the latest imagery for any location in the state.  These support general viewing and raster analysis and are offered in various protocols including Esri (e.g. REST, SOAP) and OGC (e.g., WMS, WFS, WCS). These can be found by searching using the terms "orthoimagery" and "latest." To help determine which is most suitable, refer to
this guide<\/a>.\n<\/p>", "name": "Imagery/Orthoimagery_2012_2015", "description": "

\n NOTE:<\/u><\/strong> DO NOT DOWNLOAD THE IMAGERY BY USING THE MAP OR DOWNLOAD TOOLS ON THIS ARCGIS HUB ITEM PAGE. IT WILL RESULT IN A PIXELATED ORTHOIMAGE. INSTEAD, DOWNLOAD THE IMAGERY BY TILE<\/strong><\/a> OR BY COUNTY MOSAIC<\/a> (2010 - current year).\n<\/div>\n
\n \n State map showing image project areas between 2012 and 2015\n

<\/p>\n \n<\/div>\n

\n The NC Orthoimagery Program<\/a> collects and produces 6-inch (15cm) orthoimagery on a 4-year cycle. Approximately a quarter of the state is flown each year to develop streaming imagery services, 5,000' by 5,000' tiles, and compressed single-file county mosaics. Beginning in 2020, the State started collecting a fourth band (near infrared) of imagery which, when combined with the other 3 bands of red, green, and blue, opens new possibilities for exploration and analysis.\n<\/p>\n

\n This service contains 3-band, natural color imagery collected by the NC Orthoimagery Program<\/a> for any given area of North Carolina between 2012 and 2015. The imagery has a pixel resolution of 6 inches with an RMSE of 1.0 ft X and Y. Individual pixel values may have been altered during image processing. Therefore, this service should be used for general reference and viewing. This data is also available as a WMS<\/a> service. Image analysis requiring examination of individual pixel values is discouraged. \n<\/p>\n

\n To find specific dates the images were captured use the imagery dates app<\/a> or download the data<\/a>.\n<\/p>\n

\n Viewing the latest imagery<\/strong>
\n Several web services are also available that depict the latest imagery for any location in the state.  These support general viewing and raster analysis and are offered in various protocols including Esri (e.g. REST, SOAP) and OGC (e.g., WMS, WFS, WCS). These can be found by searching using the terms "orthoimagery" and "latest." To help determine which is most suitable, refer to
this guide<\/a>.\n<\/p>", "extent": { "xmin": 400000, "ymin": 25000, "xmax": 3055000, "ymax": 1050000, "spatialReference": { "wkid": 103122, "latestWkid": 6543 } }, "initialExtent": { "xmin": 400000, "ymin": 25000, "xmax": 3055000, "ymax": 1050000, "spatialReference": { "wkid": 103122, "latestWkid": 6543 } }, "fullExtent": { "xmin": 400000, "ymin": 25000, "xmax": 3055000, "ymax": 1050000, "spatialReference": { "wkid": 103122, "latestWkid": 6543 } }, "hasMultidimensions": false, "pixelSizeX": 0.5, "pixelSizeY": 0.5, "datasetFormat": "AMD", "uncompressedSize": 32656500000000, "blockWidth": 2048, "blockHeight": 256, "compressionType": "None", "bandNames": [ "Red", "Green", "Blue" ], "allowCopy": true, "allowAnalysis": true, "bandCount": 3, "pixelType": "U8", "minPixelSize": 0, "maxPixelSize": 0, "copyrightText": "NC911, NCCGIA", "serviceDataType": "esriImageServiceDataTypeProcessed", "serviceSourceType": "esriImageServiceSourceTypeMosaicDataset", "minValues": [], "maxValues": [], "meanValues": [], "stdvValues": [], "objectIdField": "objectid", "fields": [ { "name": "objectid", "type": "esriFieldTypeOID", "alias": "objectid", "domain": null }, { "name": "name", "type": "esriFieldTypeString", "alias": "name", "domain": null, "length": 200 }, { "name": "minps", "type": "esriFieldTypeDouble", "alias": "minps", "domain": null }, { "name": "maxps", "type": "esriFieldTypeDouble", "alias": "maxps", "domain": null }, { "name": "lowps", "type": "esriFieldTypeDouble", "alias": "lowps", "domain": null }, { "name": "highps", "type": "esriFieldTypeDouble", "alias": "highps", "domain": null }, { "name": "category", "type": "esriFieldTypeInteger", "alias": "category", "domain": { "type": "codedValue", "name": "MosaicCatalogItemCategoryDomain", "description": "Catalog item categories.", "codedValues": [ { "name": "Unknown", "code": 0 }, { "name": "Primary", "code": 1 }, { "name": "Overview", "code": 2 }, { "name": "Unprocessed Overview", "code": 3 }, { "name": "Partial Overview", "code": 4 }, { "name": "Inactive", "code": 5 }, { "name": "Uploaded", "code": 253 }, { "name": "Incomplete", "code": 254 }, { "name": "Custom", "code": 255 } ], "mergePolicy": "esriMPTDefaultValue", "splitPolicy": "esriSPTDefaultValue" } }, { "name": "tag", "type": "esriFieldTypeString", "alias": "tag", "domain": null, "length": 100 }, { "name": "groupname", "type": "esriFieldTypeString", "alias": "groupname", "domain": null, "length": 100 }, { "name": "productname", "type": "esriFieldTypeString", "alias": "productname", "domain": null, "length": 100 }, { "name": "centerx", "type": "esriFieldTypeDouble", "alias": "centerx", "domain": null }, { "name": "centery", "type": "esriFieldTypeDouble", "alias": "centery", "domain": null }, { "name": "zorder", "type": "esriFieldTypeInteger", "alias": "zorder", "domain": null }, { "name": "shape", "type": "esriFieldTypeGeometry", "alias": "shape", "domain": null }, { "name": "date", "type": "esriFieldTypeDate", "alias": "Date", "domain": null, "length": 8 }, { "name": "st_area(shape)", "type": "esriFieldTypeDouble", "alias": "st_area(shape)", "domain": null }, { "name": "st_perimeter(shape)", "type": "esriFieldTypeDouble", "alias": "st_perimeter(shape)", "domain": null } ], "capabilities": "Catalog,Mensuration,Image,Metadata", "defaultMosaicMethod": "Northwest", "allowedMosaicMethods": "NorthWest,Center,LockRaster,ByAttribute,Nadir,Viewpoint,Seamline,None", "sortField": "", "sortValue": null, "sortAscending": true, "mosaicOperator": "First", "maxDownloadSizeLimit": 2048, "defaultCompressionQuality": 75, "defaultResamplingMethod": "Bilinear", "maxImageHeight": 4100, "maxImageWidth": 15000, "maxRecordCount": 1000, "maxDownloadImageCount": 20, "maxMosaicImageCount": 20, "allowRasterFunction": true, "rasterFunctionInfos": [ { "name": "None", "description": "", "help": "" } ], "rasterTypeInfos": [ { "name": "Raster Dataset", "description": "Supports all ArcGIS Raster Datasets", "help": "" } ], "mensurationCapabilities": "Basic", "hasHistograms": false, "hasColormap": false, "hasRasterAttributeTable": false, "minScale": 0, "maxScale": 0, "exportTilesAllowed": false, "supportsStatistics": true, "supportsAdvancedQueries": true, "editFieldsInfo": null, "ownershipBasedAccessControlForRasters": null, "allowComputeTiePoints": false, "useStandardizedQueries": true, "advancedQueryCapabilities": { "useStandardizedQueries": true, "supportsStatistics": true, "supportsOrderBy": true, "supportsDistinct": true, "supportsPagination": true }, "spatialReference": { "wkid": 103122, "latestWkid": 6543 } }