<?xml version="1.0" encoding="UTF-8" standalone="no"?>
<metadata xml:lang="en">
<Esri>
<CreaDate>20251210</CreaDate>
<CreaTime>16043100</CreaTime>
<ArcGISFormat>1.0</ArcGISFormat>
<SyncOnce>FALSE</SyncOnce>
<DataProperties>
<itemProps>
<itemName Sync="FALSE">nc_orthos_2018</itemName>
<nativeExtBox>
<westBL Sync="TRUE">819999.999890</westBL>
<eastBL Sync="TRUE">1964999.999890</eastBL>
<southBL Sync="TRUE">634999.999972</southBL>
<northBL Sync="TRUE">1049999.999972</northBL>
<exTypeCode Sync="TRUE">1</exTypeCode>
</nativeExtBox>
</itemProps>
<coordRef>
<type Sync="TRUE">Projected</type>
<geogcsn Sync="TRUE">GCS_NAD_1983_2011</geogcsn>
<csUnits Sync="TRUE">Linear Unit: Foot_US (0.304801)</csUnits>
<projcsn Sync="TRUE">NAD_1983_2011_StatePlane_North_Carolina_FIPS_3200_Ft_US</projcsn>
<peXml Sync="TRUE">&lt;ProjectedCoordinateSystem xsi:type='typens:ProjectedCoordinateSystem' xmlns:xsi='http://www.w3.org/2001/XMLSchema-instance' xmlns:xs='http://www.w3.org/2001/XMLSchema' xmlns:typens='http://www.esri.com/schemas/ArcGIS/2.9.0'&gt;&lt;WKT&gt;PROJCS[&amp;quot;NAD_1983_2011_StatePlane_North_Carolina_FIPS_3200_Ft_US&amp;quot;,GEOGCS[&amp;quot;GCS_NAD_1983_2011&amp;quot;,DATUM[&amp;quot;D_NAD_1983_2011&amp;quot;,SPHEROID[&amp;quot;GRS_1980&amp;quot;,6378137.0,298.257222101]],PRIMEM[&amp;quot;Greenwich&amp;quot;,0.0],UNIT[&amp;quot;Degree&amp;quot;,0.0174532925199433]],PROJECTION[&amp;quot;Lambert_Conformal_Conic&amp;quot;],PARAMETER[&amp;quot;False_Easting&amp;quot;,2000000.0],PARAMETER[&amp;quot;False_Northing&amp;quot;,0.0],PARAMETER[&amp;quot;Central_Meridian&amp;quot;,-79.0],PARAMETER[&amp;quot;Standard_Parallel_1&amp;quot;,34.33333333333334],PARAMETER[&amp;quot;Standard_Parallel_2&amp;quot;,36.16666666666666],PARAMETER[&amp;quot;Latitude_Of_Origin&amp;quot;,33.75],UNIT[&amp;quot;Foot_US&amp;quot;,0.3048006096012192],AUTHORITY[&amp;quot;EPSG&amp;quot;,6543]]&lt;/WKT&gt;&lt;XOrigin&gt;-121841900&lt;/XOrigin&gt;&lt;YOrigin&gt;-93659000&lt;/YOrigin&gt;&lt;XYScale&gt;36365718.124241434&lt;/XYScale&gt;&lt;ZOrigin&gt;-100000&lt;/ZOrigin&gt;&lt;ZScale&gt;10000&lt;/ZScale&gt;&lt;MOrigin&gt;-100000&lt;/MOrigin&gt;&lt;MScale&gt;10000&lt;/MScale&gt;&lt;XYTolerance&gt;0.0032808333333333331&lt;/XYTolerance&gt;&lt;ZTolerance&gt;0.001&lt;/ZTolerance&gt;&lt;MTolerance&gt;0.001&lt;/MTolerance&gt;&lt;HighPrecision&gt;true&lt;/HighPrecision&gt;&lt;WKID&gt;103122&lt;/WKID&gt;&lt;LatestWKID&gt;6543&lt;/LatestWKID&gt;&lt;/ProjectedCoordinateSystem&gt;</peXml>
</coordRef>
<RasterProperties>
<General>
<PixelDepth Sync="TRUE">8</PixelDepth>
<HasColormap Sync="TRUE">FALSE</HasColormap>
<CompressionType Sync="TRUE">None</CompressionType>
<NumBands Sync="TRUE">3</NumBands>
<Format Sync="TRUE">AMD</Format>
<HasPyramids Sync="TRUE">TRUE</HasPyramids>
<SourceType Sync="TRUE">continuous</SourceType>
<PixelType Sync="TRUE">unsigned integer</PixelType>
<NoDataValue Sync="TRUE">
</NoDataValue>
</General>
<Properties>
<MaxImageHeight Sync="TRUE">4100</MaxImageHeight>
<MaxImageWidth Sync="TRUE">15000</MaxImageWidth>
<MaxRecordCount Sync="TRUE">1000</MaxRecordCount>
<MaxDownloadImageCount Sync="TRUE">20</MaxDownloadImageCount>
<MaxDownloadSizeLimit Sync="TRUE">2048</MaxDownloadSizeLimit>
<MaxMosaicImageCount Sync="TRUE">20</MaxMosaicImageCount>
<DefaultCompressionQuality Sync="TRUE">85</DefaultCompressionQuality>
<DefaultCompressionTolerance Sync="TRUE">0.01</DefaultCompressionTolerance>
<BlendWidth Sync="TRUE">10</BlendWidth>
<ViewpointSpacingX Sync="TRUE">600</ViewpointSpacingX>
<ViewpointSpacingY Sync="TRUE">300</ViewpointSpacingY>
<AllowedItemMetadata Sync="TRUE">Basic</AllowedItemMetadata>
<DefaultResamplingMethod Sync="TRUE">1</DefaultResamplingMethod>
<AllowedMosaicMethods Sync="TRUE">NorthWest,Center,LockRaster,ByAttribute,Nadir,Viewpoint,Seamline,None</AllowedMosaicMethods>
<AllowedCompressions Sync="TRUE">JPEG,None,LZ77,LERC</AllowedCompressions>
<AllowedMensurationCapabilities Sync="TRUE">Basic</AllowedMensurationCapabilities>
<AvailableMensurationCapabilities Sync="TRUE">None,Basic,Base-Top Height,Top-Top Shadow Height,Base-Top Shadow Height,3D</AvailableMensurationCapabilities>
<ClipToBoundary Sync="TRUE">-1</ClipToBoundary>
<FootprintMayContainNoData Sync="TRUE">-1</FootprintMayContainNoData>
<CellSizeTolerance Sync="TRUE">0.8</CellSizeTolerance>
<MinimumPixelContribution Sync="TRUE">1</MinimumPixelContribution>
<AvailableMosaicMethods Sync="TRUE">NorthWest,Center,LockRaster,ByAttribute,Nadir,Viewpoint,Seamline,None</AvailableMosaicMethods>
<AvailableCompressionMethods Sync="TRUE">None,JPEG,LZ77,LERC</AvailableCompressionMethods>
<AvailableItemMetadataLevels Sync="TRUE">None,Basic,Full</AvailableItemMetadataLevels>
<BandDefinitionKeyword Sync="TRUE">NONE</BandDefinitionKeyword>
<_docversion_ Sync="TRUE">10</_docversion_>
<AllowedFields Sync="TRUE">Name,MinPS,MaxPS,LowPS,HighPS,Tag,GroupName,ProductName,CenterX,CenterY,ZOrder,Shape_Length,Shape_Area,date</AllowedFields>
<MaxCellSize Sync="TRUE">14580</MaxCellSize>
<LowCellSize Sync="TRUE">0.5</LowCellSize>
<HighCellSize Sync="TRUE">1458</HighCellSize>
<PixelCacheLocation Sync="FALSE">withheld</PixelCacheLocation>
<AvailableFields Sync="TRUE">name,minps,maxps,lowps,highps,tag,groupname,productname,centerx,centery,zorder,st_area(shape),st_perimeter(shape)</AvailableFields>
<SortableFields Sync="TRUE">MinPS,MaxPS,LowPS,HighPS,CenterX,CenterY,ZOrder</SortableFields>
<SortAscending Sync="TRUE">-1</SortAscending>
<MosaicOperator Sync="TRUE">1</MosaicOperator>
<BlendWidthUnits Sync="TRUE">1</BlendWidthUnits>
<ClipToFootprint Sync="TRUE">-1</ClipToFootprint>
<ClipOverviewsToFootprint Sync="TRUE">-1</ClipOverviewsToFootprint>
<HasDodgingTable Sync="TRUE">0</HasDodgingTable>
<ApplyColorCorrection Sync="TRUE">0</ApplyColorCorrection>
<UseTime Sync="TRUE">0</UseTime>
<StartTimeFieldName Sync="TRUE">
</StartTimeFieldName>
<EndTimeFieldName Sync="TRUE">
</EndTimeFieldName>
<TimeValueFormat Sync="TRUE">
</TimeValueFormat>
<UseRange Sync="TRUE">0</UseRange>
<TimeInterval Sync="TRUE">
</TimeInterval>
<TimeIntervalUnits Sync="TRUE">
</TimeIntervalUnits>
<DataType Sync="TRUE">Processed</DataType>
</Properties>
<Functions Sync="TRUE">
<Function Description="Performs on-the-fly mosaic on a raster catalog." Name="Mosaic Function">
</Function>
</Functions>
</RasterProperties>
</DataProperties>
<scaleRange>
<minScale>150000000</minScale>
<maxScale>5000</maxScale>
</scaleRange>
<SyncDate>20220527</SyncDate>
<SyncTime>16313800</SyncTime>
<ModDate>20220527</ModDate>
<ModTime>17125800</ModTime>
<ArcGISProfile>ItemDescription</ArcGISProfile>
</Esri>
<mdHrLv>
<ScopeCd value="005">
</ScopeCd>
</mdHrLv>
<mdDateSt Sync="TRUE">20220527</mdDateSt>
<dataIdInfo>
<idPurp>Depicts true color imagery for the 26 counties representing the Northern Piedmont and Mountains region of North Carolina. This includes the following counties: Alamance, Alexander, Alleghany, Ashe, Avery, Burke, Caldwell, Caswell, Catawba, Davidson, Davie, Forsyth, Guilford, Iredell, Madison, McDowell, Mitchell, Randolph, Rockingham, Rowan, Stokes, Surry, Watauga, Wilkes, Yadkin, and Yancey. The imagery has a pixel resolution of 6 inches and was flown in the beginning of 2018. The RMSE is 1.5 ft X and Y. Individual pixel values may have been altered during image processing. Therefore, this service should be used for general reference and viewing. Image analysis requiring examination of individual pixel values is discouraged.</idPurp>
<idAbs>&lt;div style='text-align:Left;'&gt;&lt;div&gt;&lt;div&gt;&lt;p&gt;&lt;span&gt;Depicts true color imagery for the 26 counties representing the Northern Piedmont and Mountains region of North Carolina. This includes the following counties: Alamance, Alexander, Alleghany, Ashe, Avery, Burke, Caldwell, Caswell, Catawba, Davidson, Davie, Forsyth, Guilford, Iredell, Madison, McDowell, Mitchell, Randolph, Rockingham, Rowan, Stokes, Surry, Watauga, Wilkes, Yadkin, and Yancey. The imagery has a pixel resolution of 6 inches and was flown in the beginning of 2018. The RMSE is 1.5 ft X and Y. Individual pixel values may have been altered during image processing. Therefore, this service should be used for general reference and viewing. Image analysis requiring examination of individual pixel values is discouraged. &lt;/span&gt;&lt;/p&gt;&lt;/div&gt;&lt;/div&gt;&lt;/div&gt;</idAbs>
<idCredit>NCCGIA, NC 911 Board</idCredit>
<idCitation>
<resTitle>Orthoimagery_2018</resTitle>
<presForm>
<PresFormCd Sync="TRUE" value="005">
</PresFormCd>
</presForm>
</idCitation>
<searchKeys>
<keyword>North Carolina</keyword>
<keyword>NC</keyword>
<keyword>Department of Information Technology</keyword>
<keyword>DIT</keyword>
<keyword>Center for Geographic Information and Analysis</keyword>
<keyword>CGIA</keyword>
<keyword>NC OneMap</keyword>
<keyword>imagery</keyword>
<keyword>2018</keyword>
<keyword>aerial</keyword>
<keyword>orthoimagery</keyword>
<keyword>photograph</keyword>
<keyword>photo</keyword>
<keyword>picture</keyword>
<keyword>imageryBaseMapsEarthCover</keyword>
</searchKeys>
<resConst>
<Consts>
<useLimit>&lt;div style='text-align:Left;'&gt;&lt;div&gt;&lt;div&gt;&lt;p&gt;&lt;span&gt;Please refer to &lt;/span&gt;&lt;a href='https://www.nconemap.gov:443/pages/terms' style='text-decoration:underline;'&gt;&lt;span&gt;https://www.nconemap.gov/pages/terms&lt;/span&gt;&lt;/a&gt;&lt;/p&gt;&lt;p&gt;&lt;span /&gt;&lt;/p&gt;&lt;/div&gt;&lt;/div&gt;&lt;/div&gt;</useLimit>
</Consts>
</resConst>
<dataExt>
<geoEle>
<GeoBndBox esriExtentType="search">
<westBL>-82.9622551295</westBL>
<eastBL>-79.1192619512</eastBL>
<northBL>36.6347047406</northBL>
<southBL>35.4300613607</southBL>
<exTypeCode>1</exTypeCode>
</GeoBndBox>
</geoEle>
</dataExt>
<envirDesc Sync="FALSE">Esri ArcGIS 12.9.3.32739</envirDesc>
<dataLang>
<languageCode Sync="TRUE" value="eng">
</languageCode>
<countryCode Sync="TRUE" value="USA">
</countryCode>
</dataLang>
<spatRpType>
<SpatRepTypCd Sync="TRUE" value="002">
</SpatRepTypCd>
</spatRpType>
</dataIdInfo>
<mdLang>
<languageCode Sync="TRUE" value="eng">
</languageCode>
<countryCode Sync="TRUE" value="USA">
</countryCode>
</mdLang>
<refSysInfo>
<RefSystem>
<refSysID>
<identCode Sync="TRUE" code="6543">
</identCode>
<idCodeSpace Sync="TRUE">EPSG</idCodeSpace>
<idVersion Sync="TRUE">8.2.10(10.3.1)</idVersion>
</refSysID>
</RefSystem>
</refSysInfo>
<spatRepInfo>
<Georect>
<cellGeo>
<CellGeoCd Sync="TRUE" value="002">
</CellGeoCd>
</cellGeo>
<numDims Sync="TRUE">2</numDims>
<tranParaAv Sync="TRUE">1</tranParaAv>
<chkPtAv Sync="TRUE">0</chkPtAv>
<cornerPts>
<pos Sync="TRUE">819999.999890 634999.999972</pos>
</cornerPts>
<cornerPts>
<pos Sync="TRUE">819999.999890 1049999.999972</pos>
</cornerPts>
<cornerPts>
<pos Sync="TRUE">1964999.999890 1049999.999972</pos>
</cornerPts>
<cornerPts>
<pos Sync="TRUE">1964999.999890 634999.999972</pos>
</cornerPts>
<centerPt>
<pos Sync="TRUE">1392499.999890 842499.999972</pos>
</centerPt>
<axisDimension type="002">
<dimSize Sync="TRUE">2290000</dimSize>
<dimResol>
<value Sync="TRUE" uom="ftUS">0.500000</value>
</dimResol>
</axisDimension>
<axisDimension type="001">
<dimSize Sync="TRUE">830000</dimSize>
<dimResol>
<value Sync="TRUE" uom="ftUS">0.500000</value>
</dimResol>
</axisDimension>
<ptInPixel>
<PixOrientCd Sync="TRUE" value="001">
</PixOrientCd>
</ptInPixel>
</Georect>
</spatRepInfo>
<contInfo>
<ImgDesc>
<contentTyp>
<ContentTypCd Sync="TRUE" value="001">
</ContentTypCd>
</contentTyp>
<covDim>
<Band>
<dimDescrp Sync="TRUE">Band_1</dimDescrp>
<maxVal Sync="TRUE">255.000000</maxVal>
<minVal Sync="TRUE">0.000000</minVal>
<bitsPerVal Sync="TRUE">8</bitsPerVal>
<valUnit>
<UOM type="length">
</UOM>
</valUnit>
</Band>
<Band>
<dimDescrp Sync="TRUE">Band_2</dimDescrp>
<maxVal Sync="TRUE">255.000000</maxVal>
<minVal Sync="TRUE">0.000000</minVal>
<bitsPerVal Sync="TRUE">8</bitsPerVal>
<valUnit>
<UOM type="length">
</UOM>
</valUnit>
</Band>
<Band>
<dimDescrp Sync="TRUE">Band_3</dimDescrp>
<maxVal Sync="TRUE">255.000000</maxVal>
<minVal Sync="TRUE">0.000000</minVal>
<bitsPerVal Sync="TRUE">8</bitsPerVal>
<valUnit>
<UOM type="length">
</UOM>
</valUnit>
</Band>
</covDim>
</ImgDesc>
</contInfo>
</metadata>
