{ "currentVersion": 10.91, "serviceDescription": "
Depicts imagery (4-band) for the 27 counties representing the Coastal Plain region of North Carolina. The imagery was flown in early 2020 as part of the NC Orthoimagery Program and has a pixel resolution of 6 inches. The RMSE is 1.0 ft X and Y. Processing has been minimized to preserve the ability to use this data for raster analysis. <\/span><\/p><\/div><\/div><\/div>",
"name": "Imagery/Orthoimagery_2020",
"description": " Depicts imagery (4-band) for the 27 counties representing the Coastal Plain region of North Carolina. The imagery was flown in early 2020 as part of the NC Orthoimagery Program and has a pixel resolution of 6 inches. The RMSE is 1.0 ft X and Y. Processing has been minimized to preserve the ability to use this data for raster analysis. <\/span><\/p><\/div><\/div><\/div>",
"extent": {
"xmin": 1972844.9999359697,
"ymin": 24579.99975556135,
"xmax": 3055724.9999359697,
"ymax": 1040899.9997555614,
"spatialReference": {
"wkid": 103122,
"latestWkid": 6543
}
},
"initialExtent": {
"xmin": 1972844.9999359697,
"ymin": 24579.99975556135,
"xmax": 3055724.9999359697,
"ymax": 1040899.9997555614,
"spatialReference": {
"wkid": 103122,
"latestWkid": 6543
}
},
"fullExtent": {
"xmin": 1972844.9999359697,
"ymin": 24579.99975556135,
"xmax": 3055724.9999359697,
"ymax": 1040899.9997555614,
"spatialReference": {
"wkid": 103122,
"latestWkid": 6543
}
},
"hasMultidimensions": false,
"pixelSizeX": 0.5,
"pixelSizeY": 0.5,
"datasetFormat": "AMD",
"uncompressedSize": 13206631219200,
"blockWidth": 2048,
"blockHeight": 256,
"compressionType": "None",
"bandNames": [
"Band_1",
"Band_2",
"Band_3"
],
"allowCopy": true,
"allowAnalysis": true,
"bandCount": 3,
"pixelType": "U8",
"minPixelSize": 0,
"maxPixelSize": 0,
"copyrightText": "NCCGIA, NC 911 Board",
"serviceDataType": "esriImageServiceDataTypeProcessed",
"serviceSourceType": "esriImageServiceSourceTypeMosaicDataset",
"minValues": [],
"maxValues": [],
"meanValues": [],
"stdvValues": [],
"objectIdField": "objectid",
"fields": [
{
"name": "objectid",
"type": "esriFieldTypeOID",
"alias": "OBJECTID",
"domain": null
},
{
"name": "name",
"type": "esriFieldTypeString",
"alias": "Name",
"domain": null,
"length": 200
},
{
"name": "minps",
"type": "esriFieldTypeDouble",
"alias": "MinPS",
"domain": null
},
{
"name": "maxps",
"type": "esriFieldTypeDouble",
"alias": "MaxPS",
"domain": null
},
{
"name": "lowps",
"type": "esriFieldTypeDouble",
"alias": "LowPS",
"domain": null
},
{
"name": "highps",
"type": "esriFieldTypeDouble",
"alias": "HighPS",
"domain": null
},
{
"name": "category",
"type": "esriFieldTypeInteger",
"alias": "Category",
"domain": {
"type": "codedValue",
"name": "MosaicCatalogItemCategoryDomain",
"description": "Catalog item categories.",
"codedValues": [
{
"name": "Unknown",
"code": 0
},
{
"name": "Primary",
"code": 1
},
{
"name": "Overview",
"code": 2
},
{
"name": "Unprocessed Overview",
"code": 3
},
{
"name": "Partial Overview",
"code": 4
},
{
"name": "Inactive",
"code": 5
},
{
"name": "Uploaded",
"code": 253
},
{
"name": "Incomplete",
"code": 254
},
{
"name": "Custom",
"code": 255
}
],
"mergePolicy": "esriMPTDefaultValue",
"splitPolicy": "esriSPTDefaultValue"
}
},
{
"name": "tag",
"type": "esriFieldTypeString",
"alias": "Tag",
"domain": null,
"length": 100
},
{
"name": "groupname",
"type": "esriFieldTypeString",
"alias": "GroupName",
"domain": null,
"length": 100
},
{
"name": "productname",
"type": "esriFieldTypeString",
"alias": "ProductName",
"domain": null,
"length": 100
},
{
"name": "centerx",
"type": "esriFieldTypeDouble",
"alias": "CenterX",
"domain": null
},
{
"name": "centery",
"type": "esriFieldTypeDouble",
"alias": "CenterY",
"domain": null
},
{
"name": "zorder",
"type": "esriFieldTypeInteger",
"alias": "ZOrder",
"domain": null
},
{
"name": "date",
"type": "esriFieldTypeDate",
"alias": "date",
"domain": null,
"length": 8
},
{
"name": "shape",
"type": "esriFieldTypeGeometry",
"alias": "Shape",
"domain": null
}
],
"capabilities": "Catalog,Mensuration,Image,Metadata",
"defaultMosaicMethod": "Northwest",
"allowedMosaicMethods": "NorthWest,Center,LockRaster,ByAttribute,Nadir,Viewpoint,Seamline,None",
"sortField": "",
"sortValue": null,
"sortAscending": true,
"mosaicOperator": "First",
"maxDownloadSizeLimit": 2048,
"defaultCompressionQuality": 75,
"defaultResamplingMethod": "Bilinear",
"maxImageHeight": 4100,
"maxImageWidth": 15000,
"maxRecordCount": 1000,
"maxDownloadImageCount": 20,
"maxMosaicImageCount": 20,
"allowRasterFunction": true,
"rasterFunctionInfos": [
{
"name": "None",
"description": "",
"help": ""
}
],
"rasterTypeInfos": [
{
"name": "Raster Dataset",
"description": "Supports all ArcGIS Raster Datasets",
"help": ""
}
],
"mensurationCapabilities": "Basic",
"hasHistograms": false,
"hasColormap": false,
"hasRasterAttributeTable": false,
"minScale": 0,
"maxScale": 0,
"exportTilesAllowed": false,
"supportsStatistics": true,
"supportsAdvancedQueries": true,
"editFieldsInfo": null,
"ownershipBasedAccessControlForRasters": null,
"allowComputeTiePoints": false,
"useStandardizedQueries": true,
"advancedQueryCapabilities": {
"useStandardizedQueries": true,
"supportsStatistics": true,
"supportsOrderBy": true,
"supportsDistinct": true,
"supportsPagination": true
},
"spatialReference": {
"wkid": 103122,
"latestWkid": 6543
}
}