{ "currentVersion": 10.91, "serviceDescription": "
Contains the most recent imagery collected by the NC Orthoimagery Program for any given area of North Carolina. The imagery is natural color (3-band, JPEG compression) and has a pixel resolution of 6 inches with an RMSE of 1.0 ft X and Y. Individual pixel values may have been altered during image processing. Therefore, this service should be used for general reference and viewing. Users conducting image analysis requiring examination of individual pixel values should use the 4-band version of this data.<\/span><\/p><\/div><\/div><\/div>",
"name": "Imagery/Orthoimagery_Latest",
"description": " Contains the most recent imagery collected by the NC Orthoimagery Program for any given area of North Carolina. The imagery is natural color (3-band, JPEG compression) and has a pixel resolution of 6 inches with an RMSE of 1.0 ft X and Y. Individual pixel values may have been altered during image processing. Therefore, this service should be used for general reference and viewing. Users conducting image analysis requiring examination of individual pixel values should use the 4-band version of this data.<\/span><\/p><\/div><\/div><\/div>",
"extent": {
"xmin": 393325,
"ymin": 16900,
"xmax": 3058013.5,
"ymax": 1051140,
"spatialReference": {
"wkid": 103122,
"latestWkid": 6543
}
},
"initialExtent": {
"xmin": 393325,
"ymin": 16900,
"xmax": 3058013.5,
"ymax": 1051140,
"spatialReference": {
"wkid": 103122,
"latestWkid": 6543
}
},
"fullExtent": {
"xmin": 393325,
"ymin": 16900,
"xmax": 3058013.5,
"ymax": 1051140,
"spatialReference": {
"wkid": 103122,
"latestWkid": 6543
}
},
"hasMultidimensions": false,
"pixelSizeX": 0.5,
"pixelSizeY": 0.5,
"datasetFormat": "AMD",
"uncompressedSize": 33071129210880,
"blockWidth": 2048,
"blockHeight": 256,
"compressionType": "None",
"bandNames": [
"Band_1",
"Band_2",
"Band_3"
],
"allowCopy": true,
"allowAnalysis": true,
"bandCount": 3,
"pixelType": "U8",
"minPixelSize": 0,
"maxPixelSize": 0,
"copyrightText": "NC Center for Geographic Information and Analysis, NC 911 Board",
"serviceDataType": "esriImageServiceDataTypeProcessed",
"serviceSourceType": "esriImageServiceSourceTypeMosaicDataset",
"minValues": [
0,
0,
0
],
"maxValues": [
255,
255,
255
],
"meanValues": [
96.62818789560475,
95.87998065645877,
81.28552409961866
],
"stdvValues": [
47.14893884092251,
41.74768337648726,
36.73836789478405
],
"objectIdField": "objectid",
"fields": [
{
"name": "objectid",
"type": "esriFieldTypeOID",
"alias": "objectid",
"domain": null
},
{
"name": "name",
"type": "esriFieldTypeString",
"alias": "name",
"domain": null,
"length": 200
},
{
"name": "minps",
"type": "esriFieldTypeDouble",
"alias": "minps",
"domain": null
},
{
"name": "maxps",
"type": "esriFieldTypeDouble",
"alias": "maxps",
"domain": null
},
{
"name": "lowps",
"type": "esriFieldTypeDouble",
"alias": "lowps",
"domain": null
},
{
"name": "highps",
"type": "esriFieldTypeDouble",
"alias": "highps",
"domain": null
},
{
"name": "category",
"type": "esriFieldTypeInteger",
"alias": "category",
"domain": {
"type": "codedValue",
"name": "MosaicCatalogItemCategoryDomain",
"description": "Catalog item categories.",
"codedValues": [
{
"name": "Unknown",
"code": 0
},
{
"name": "Primary",
"code": 1
},
{
"name": "Overview",
"code": 2
},
{
"name": "Unprocessed Overview",
"code": 3
},
{
"name": "Partial Overview",
"code": 4
},
{
"name": "Inactive",
"code": 5
},
{
"name": "Uploaded",
"code": 253
},
{
"name": "Incomplete",
"code": 254
},
{
"name": "Custom",
"code": 255
}
],
"mergePolicy": "esriMPTDefaultValue",
"splitPolicy": "esriSPTDefaultValue"
}
},
{
"name": "tag",
"type": "esriFieldTypeString",
"alias": "tag",
"domain": null,
"length": 100
},
{
"name": "groupname",
"type": "esriFieldTypeString",
"alias": "groupname",
"domain": null,
"length": 100
},
{
"name": "productname",
"type": "esriFieldTypeString",
"alias": "productname",
"domain": null,
"length": 100
},
{
"name": "centerx",
"type": "esriFieldTypeDouble",
"alias": "centerx",
"domain": null
},
{
"name": "centery",
"type": "esriFieldTypeDouble",
"alias": "centery",
"domain": null
},
{
"name": "zorder",
"type": "esriFieldTypeInteger",
"alias": "zorder",
"domain": null
},
{
"name": "date",
"type": "esriFieldTypeDate",
"alias": "Date",
"domain": null,
"length": 8
},
{
"name": "shape",
"type": "esriFieldTypeGeometry",
"alias": "shape",
"domain": null
},
{
"name": "st_area(shape)",
"type": "esriFieldTypeDouble",
"alias": "st_area(shape)",
"domain": null
},
{
"name": "st_perimeter(shape)",
"type": "esriFieldTypeDouble",
"alias": "st_perimeter(shape)",
"domain": null
}
],
"capabilities": "Catalog,Mensuration,Image,Metadata",
"defaultMosaicMethod": "ByAttribute",
"allowedMosaicMethods": "ByAttribute,NorthWest,Center,LockRaster,Nadir,Viewpoint,Seamline,None",
"sortField": "date",
"sortValue": "3000/01/01",
"sortAscending": true,
"mosaicOperator": "First",
"maxDownloadSizeLimit": 5000,
"defaultCompressionQuality": 80,
"defaultResamplingMethod": "Bilinear",
"maxImageHeight": 4100,
"maxImageWidth": 15000,
"maxRecordCount": 1000,
"maxDownloadImageCount": 10,
"maxMosaicImageCount": 20,
"allowRasterFunction": true,
"rasterFunctionInfos": [
{
"name": "None",
"description": "",
"help": ""
}
],
"rasterTypeInfos": [
{
"name": "Raster Dataset",
"description": "Supports all ArcGIS Raster Datasets",
"help": ""
}
],
"mensurationCapabilities": "Basic",
"hasHistograms": true,
"hasColormap": false,
"hasRasterAttributeTable": false,
"minScale": 0,
"maxScale": 0,
"exportTilesAllowed": false,
"supportsStatistics": true,
"supportsAdvancedQueries": true,
"editFieldsInfo": null,
"ownershipBasedAccessControlForRasters": null,
"allowComputeTiePoints": false,
"useStandardizedQueries": true,
"advancedQueryCapabilities": {
"useStandardizedQueries": true,
"supportsStatistics": true,
"supportsOrderBy": true,
"supportsDistinct": true,
"supportsPagination": true
},
"spatialReference": {
"wkid": 103122,
"latestWkid": 6543
}
}