<?xml version="1.0" encoding="UTF-8" standalone="no"?>
<metadata xml:lang="en">
<Esri>
<CreaDate>20211025</CreaDate>
<CreaTime>08274500</CreaTime>
<ArcGISFormat>1.0</ArcGISFormat>
<SyncOnce>FALSE</SyncOnce>
<DataProperties>
<lineage>
<Process Date="20211021" Name="" Time="152052" ToolSource="c:\program files\arcgis\pro\Resources\ArcToolbox\toolboxes\Data Management Tools.tbx\CreateMosaicDataset" export="">CreateMosaicDataset D:\NCOneMap\Hosted\nature_conservancy\arcgispro\Default.gdb flood_extent_matthew PROJCS["NAD_1983_StatePlane_North_Carolina_FIPS_3200_Feet",GEOGCS["GCS_North_American_1983",DATUM["D_North_American_1983",SPHEROID["GRS_1980",6378137.0,298.257222101]],PRIMEM["Greenwich",0.0],UNIT["Degree",0.0174532925199433]],PROJECTION["Lambert_Conformal_Conic"],PARAMETER["False_Easting",2000000.002616666],PARAMETER["False_Northing",0.0],PARAMETER["Central_Meridian",-79.0],PARAMETER["Standard_Parallel_1",34.33333333333334],PARAMETER["Standard_Parallel_2",36.16666666666666],PARAMETER["Latitude_Of_Origin",33.75],UNIT["Foot_US",0.3048006096012192]] # # None #</Process>
<Process Date="20211025" Name="" Time="082746" ToolSource="c:\program files\arcgis\pro\Resources\ArcToolbox\Toolboxes\Data Management Tools.tbx\CopyMultiple" export="">CopyMultiple "D:\NCOneMap\Hosted\nature_conservancy\arcgispro\Default.gdb\flood_extent_matthew MosaicDataset" D:\NCOneMap\sde_connection_files\aurora-ncom-sdeadmin.sde flood_extent_matthew "flood_extent_matthew MosaicDataset ncom.sdeadmin.flood_extent_matthew #;flood_extent_matthew LasDataset ncom.sdeadmin.flood_extent_matthew #"</Process>
<Process Date="20211025" Name="" Time="083001" ToolSource="c:\program files\arcgis\pro\Resources\ArcToolbox\toolboxes\Data Management Tools.tbx\AddRastersToMosaicDataset" export="">AddRastersToMosaicDataset D:\NCOneMap\sde_connection_files\aurora-ncom-sdeadmin.sde\ncom.sdeadmin.flood_extent_matthew "Table / Raster Catalog" D:\NCOneMap\Hosted\nature_conservancy\raster-proxy-files\raster-proxy-matthew.csv UPDATE_CELL_SIZES UPDATE_BOUNDARY NO_OVERVIEWS # 0 1500 # # SUBFOLDERS "Allow duplicates" NO_PYRAMIDS NO_STATISTICS NO_THUMBNAILS # NO_FORCE_SPATIAL_REFERENCE NO_STATISTICS # NO_PIXEL_CACHE C:\Users\gbspivey\AppData\Local\ESRI\rasterproxies\ncom.sdeadmin.flood_extent_matthew</Process>
<Process Date="20220519" Name="" Time="171506" ToolSource="c:\program files\arcgis\pro\Resources\ArcToolbox\toolboxes\Data Management Tools.tbx\AddRastersToMosaicDataset" export="">AddRastersToMosaicDataset D:\NCOneMap\sde_connection_files\aurora-ncom-sdeadmin.sde\ncom.sdeadmin.flood_extent_matthew "Table / Raster Catalog" D:\NCOneMap\Hosted\nature_conservancy\raster-proxy-files\raster-proxy-matthew.csv UPDATE_CELL_SIZES UPDATE_BOUNDARY NO_OVERVIEWS # 0 1500 # # SUBFOLDERS "Allow duplicates" NO_PYRAMIDS NO_STATISTICS NO_THUMBNAILS # NO_FORCE_SPATIAL_REFERENCE NO_STATISTICS # NO_PIXEL_CACHE C:\Users\gbspivey\AppData\Local\ESRI\rasterproxies\ncom.sdeadmin.flood_extent_matthew</Process>
</lineage>
<itemProps>
<itemLocation>
<linkage Sync="TRUE">Server=cgiadbcluster1.cluster-cj1ib0qfquhl.us-east-1.rds.amazonaws.com; Service=sde:postgresql:cgiadbcluster1.cluster-cj1ib0qfquhl.us-east-1.rds.amazonaws.com; Database=ncom; User=sde; Version=sde.DEFAULT</linkage>
<protocol Sync="TRUE">ArcSDE Connection</protocol>
</itemLocation>
<imsContentType Sync="TRUE" export="False">002</imsContentType>
<itemName Sync="TRUE">ncom.sdeadmin.flood_extent_matthew</itemName>
<nativeExtBox>
<westBL Sync="TRUE">406823.424964</westBL>
<eastBL Sync="TRUE">3070269.541766</eastBL>
<southBL Sync="TRUE">2690.254932</southBL>
<northBL Sync="TRUE">1043633.054985</northBL>
<exTypeCode Sync="TRUE">1</exTypeCode>
</nativeExtBox>
</itemProps>
<coordRef>
<type Sync="TRUE">Projected</type>
<geogcsn Sync="TRUE">GCS_North_American_1983</geogcsn>
<csUnits Sync="TRUE">Linear Unit: Foot_US (0.304801)</csUnits>
<projcsn Sync="TRUE">NAD_1983_StatePlane_North_Carolina_FIPS_3200_Feet</projcsn>
<peXml Sync="TRUE">&lt;ProjectedCoordinateSystem xsi:type='typens:ProjectedCoordinateSystem' xmlns:xsi='http://www.w3.org/2001/XMLSchema-instance' xmlns:xs='http://www.w3.org/2001/XMLSchema' xmlns:typens='http://www.esri.com/schemas/ArcGIS/2.9.0'&gt;&lt;WKT&gt;PROJCS[&amp;quot;NAD_1983_StatePlane_North_Carolina_FIPS_3200_Feet&amp;quot;,GEOGCS[&amp;quot;GCS_North_American_1983&amp;quot;,DATUM[&amp;quot;D_North_American_1983&amp;quot;,SPHEROID[&amp;quot;GRS_1980&amp;quot;,6378137.0,298.257222101]],PRIMEM[&amp;quot;Greenwich&amp;quot;,0.0],UNIT[&amp;quot;Degree&amp;quot;,0.0174532925199433]],PROJECTION[&amp;quot;Lambert_Conformal_Conic&amp;quot;],PARAMETER[&amp;quot;False_Easting&amp;quot;,2000000.002616666],PARAMETER[&amp;quot;False_Northing&amp;quot;,0.0],PARAMETER[&amp;quot;Central_Meridian&amp;quot;,-79.0],PARAMETER[&amp;quot;Standard_Parallel_1&amp;quot;,34.33333333333334],PARAMETER[&amp;quot;Standard_Parallel_2&amp;quot;,36.16666666666666],PARAMETER[&amp;quot;Latitude_Of_Origin&amp;quot;,33.75],UNIT[&amp;quot;Foot_US&amp;quot;,0.3048006096012192],AUTHORITY[&amp;quot;EPSG&amp;quot;,2264]]&lt;/WKT&gt;&lt;XOrigin&gt;-121841900&lt;/XOrigin&gt;&lt;YOrigin&gt;-93659000&lt;/YOrigin&gt;&lt;XYScale&gt;36365718.124241434&lt;/XYScale&gt;&lt;ZOrigin&gt;-100000&lt;/ZOrigin&gt;&lt;ZScale&gt;10000&lt;/ZScale&gt;&lt;MOrigin&gt;-100000&lt;/MOrigin&gt;&lt;MScale&gt;10000&lt;/MScale&gt;&lt;XYTolerance&gt;0.0032808333333333331&lt;/XYTolerance&gt;&lt;ZTolerance&gt;0.001&lt;/ZTolerance&gt;&lt;MTolerance&gt;0.001&lt;/MTolerance&gt;&lt;HighPrecision&gt;true&lt;/HighPrecision&gt;&lt;WKID&gt;102719&lt;/WKID&gt;&lt;LatestWKID&gt;2264&lt;/LatestWKID&gt;&lt;/ProjectedCoordinateSystem&gt;</peXml>
</coordRef>
<RasterProperties>
<General>
<PixelDepth Sync="TRUE">8</PixelDepth>
<HasColormap Sync="TRUE">FALSE</HasColormap>
<CompressionType Sync="TRUE">None</CompressionType>
<NumBands Sync="TRUE">1</NumBands>
<Format Sync="TRUE">AMD</Format>
<HasPyramids Sync="TRUE">TRUE</HasPyramids>
<SourceType Sync="TRUE">continuous</SourceType>
<PixelType Sync="TRUE">unsigned integer</PixelType>
<NoDataValue Sync="TRUE">0</NoDataValue>
</General>
<Properties>
<MaxImageHeight Sync="TRUE">4100</MaxImageHeight>
<MaxImageWidth Sync="TRUE">15000</MaxImageWidth>
<MaxRecordCount Sync="TRUE">1000</MaxRecordCount>
<MaxDownloadImageCount Sync="TRUE">20</MaxDownloadImageCount>
<MaxDownloadSizeLimit Sync="TRUE">2048</MaxDownloadSizeLimit>
<MaxMosaicImageCount Sync="TRUE">20</MaxMosaicImageCount>
<DefaultCompressionQuality Sync="TRUE">75</DefaultCompressionQuality>
<DefaultCompressionTolerance Sync="TRUE">0.01</DefaultCompressionTolerance>
<BlendWidth Sync="TRUE">10</BlendWidth>
<ViewpointSpacingX Sync="TRUE">600</ViewpointSpacingX>
<ViewpointSpacingY Sync="TRUE">300</ViewpointSpacingY>
<AllowedItemMetadata Sync="TRUE">Basic</AllowedItemMetadata>
<DefaultResamplingMethod Sync="TRUE">1</DefaultResamplingMethod>
<AllowedMosaicMethods Sync="TRUE">NorthWest,Center,LockRaster,ByAttribute,Nadir,Viewpoint,Seamline,None</AllowedMosaicMethods>
<AllowedCompressions Sync="TRUE">None,JPEG,LZ77,LERC</AllowedCompressions>
<AllowedMensurationCapabilities Sync="TRUE">Basic</AllowedMensurationCapabilities>
<AvailableMensurationCapabilities Sync="TRUE">None,Basic,Base-Top Height,Top-Top Shadow Height,Base-Top Shadow Height,3D</AvailableMensurationCapabilities>
<ClipToBoundary Sync="TRUE">-1</ClipToBoundary>
<FootprintMayContainNoData Sync="TRUE">-1</FootprintMayContainNoData>
<CellSizeTolerance Sync="TRUE">0.8</CellSizeTolerance>
<MinimumPixelContribution Sync="TRUE">1</MinimumPixelContribution>
<AvailableMosaicMethods Sync="TRUE">NorthWest,Center,LockRaster,ByAttribute,Nadir,Viewpoint,Seamline,None</AvailableMosaicMethods>
<AvailableCompressionMethods Sync="TRUE">None,JPEG,LZ77,LERC</AvailableCompressionMethods>
<AvailableItemMetadataLevels Sync="TRUE">None,Basic,Full</AvailableItemMetadataLevels>
<BandDefinitionKeyword Sync="TRUE">NONE</BandDefinitionKeyword>
<_docversion_ Sync="TRUE">10</_docversion_>
<AllowedFields Sync="TRUE">Name,MinPS,MaxPS,LowPS,HighPS,Tag,GroupName,ProductName,CenterX,CenterY,ZOrder,Shape_Length,Shape_Area</AllowedFields>
<ClipToFootprint Sync="TRUE">-1</ClipToFootprint>
<MaxCellSize Sync="TRUE">5249.3333333</MaxCellSize>
<LowCellSize Sync="TRUE">65.61666667</LowCellSize>
<HighCellSize Sync="TRUE">524.93333333</HighCellSize>
<PixelCacheLocation Sync="TRUE">C:\Users\gbspivey\AppData\Local\ESRI\rasterproxies\ncom.sdeadmin.flood_extent_matthew</PixelCacheLocation>
<DataType Sync="TRUE">Generic</DataType>
</Properties>
<Functions Sync="TRUE">
<Function Description="Performs on-the-fly mosaic on a raster catalog." Name="Mosaic Function"/>
</Functions>
</RasterProperties>
</DataProperties>
<locales>
<locale country="US" language="en"/>
</locales>
<scaleRange>
<minScale>150000000</minScale>
<maxScale>5000</maxScale>
</scaleRange>
<SyncDate>20220525</SyncDate>
<SyncTime>10574800</SyncTime>
<ModDate>20220527</ModDate>
<ModTime>11413400</ModTime>
<ArcGISProfile>FGDC</ArcGISProfile>
</Esri>
<mdFileID>Hurricane Matthew flood extent across the Piedmont and Coastal Plain of North Carolina</mdFileID>
<mdLang>
<languageCode value="eng"/>
<countryCode Sync="TRUE" value="USA"/>
</mdLang>
<mdChar>
<CharSetCd value="004"/>
</mdChar>
<mdHrLv>
<ScopeCd value="005"/>
</mdHrLv>
<mdHrLvName Sync="TRUE">dataset</mdHrLvName>
<mdContact>
<rpIndName>The Nature Conservancy North Carolina</rpIndName>
<rpCntInfo>
<cntAddress addressType="">
<delPoint>334 Blackwell St Suite 300</delPoint>
<city>Durham</city>
<adminArea>NC</adminArea>
<postCode>27701</postCode>
<eMailAdd>northcarolinachapter@tnc.org</eMailAdd>
<country>US</country>
</cntAddress>
<cntPhone>
<voiceNum tddtty="">919-403-8558</voiceNum>
</cntPhone>
</rpCntInfo>
<displayName>The Nature Conservancy North Carolina</displayName>
<role>
<RoleCd value="001"/>
</role>
</mdContact>
<mdContact>
<rpIndName>Margaret Fields</rpIndName>
<rpOrgName>The Nature Conservancy North Carolina</rpOrgName>
<rpPosName>GIS &amp; Invasives Coordinator</rpPosName>
<rpCntInfo>
<cntAddress addressType="">
<eMailAdd>mfields@tnc.org</eMailAdd>
</cntAddress>
</rpCntInfo>
<displayName>Margaret Fields</displayName>
<role>
<RoleCd value="007"/>
</role>
</mdContact>
<mdDateSt Sync="TRUE">20220527</mdDateSt>
<mdStanName>ArcGIS Metadata</mdStanName>
<mdStanVer>1.0</mdStanVer>
<distInfo>
<distFormat>
<formatName Sync="TRUE">Raster Dataset</formatName>
</distFormat>
<distTranOps>
<onLineSrc>
<linkage>https://knb.ecoinformatics.org/view/doi%3A10.5063%2FF1JM280P</linkage>
<orName>Download Matthew flood extent raster</orName>
<orDesc>Download Matthew flood extent raster</orDesc>
</onLineSrc>
</distTranOps>
</distInfo>
<dataIdInfo>
<idCitation>
<resTitle Sync="FALSE">Matthew_Flood_Extent</resTitle>
<date>
<pubDate>2018-04-23T00:00:00</pubDate>
<createDate>2020-04-23T00:00:00</createDate>
</date>
<presForm>
<PresFormCd Sync="TRUE" value="005"/>
</presForm>
<citRespParty>
<rpIndName>The Nature Conservancy North Carolina</rpIndName>
<role>
<RoleCd value="001"/>
</role>
<rpCntInfo>
<cntAddress addressType="">
<delPoint>334 Blackwell St Suite 300</delPoint>
<city>Durham</city>
<adminArea>NC</adminArea>
<postCode>27701</postCode>
<eMailAdd>northcarolinachapter@tnc.org</eMailAdd>
<country>US</country>
</cntAddress>
<cntPhone>
<voiceNum tddtty="">919-403-8558</voiceNum>
</cntPhone>
</rpCntInfo>
</citRespParty>
<citRespParty>
<rpIndName>Margaret Fields</rpIndName>
<rpOrgName>The Nature Conservancy North Carolina</rpOrgName>
<rpPosName>GIS &amp; Invasives Coordinator</rpPosName>
<role>
<RoleCd value="007"/>
</role>
<rpCntInfo>
<cntAddress addressType="">
<eMailAdd>mfields@tnc.org</eMailAdd>
</cntAddress>
</rpCntInfo>
</citRespParty>
<citRespParty>
<rpIndName>Danica Schaffer-Smith</rpIndName>
<rpOrgName>The Nature Conservancy North Carolina</rpOrgName>
<rpPosName>NatureNet Science Fellow</rpPosName>
<role>
<RoleCd value="011"/>
</role>
</citRespParty>
</idCitation>
<idAbs>&lt;div style='text-align:Left;'&gt;&lt;div&gt;&lt;div&gt;&lt;p&gt;&lt;span&gt;The data provide an estimate of flood extent following Hurricane Matthew (2016) across the Piedmont and Coastal Plain of North Carolina. Flooded and non-flooded regions were delineated using a random forest classification model leveraging pre- and post-storm synthetic aperture radar from the European Space Agency's Sentinel-1 sensor, in addition to topography, floodplain, and landcover data. The classification model was trained with USGS and NCDEMS high-water marks, in addition to flooded and non-flooded regions delineated from high-resolution NOAA aerial photography; the model achieved 92% accuracy against an independent withheld sample. This effort was aimed at identifying inland flooding and not storm surge. This dataset is not intended to replace North Carolina's Floodplain Mapping Program hazard projections. For additional details regarding the methods, please see the peer-reviewed publication and data and code archives referenced in the Credits below.&lt;/span&gt;&lt;/p&gt;&lt;p&gt;&lt;span&gt;Note: Do not download this raster using the map at the top of the page. Instead, click Download then "Download Matthew flood extent raster." The link will take you to a page where the raster can be downloaded.&lt;/span&gt;&lt;/p&gt;&lt;/div&gt;&lt;/div&gt;&lt;/div&gt;</idAbs>
<idStatus>
<ProgCd value="001"/>
</idStatus>
<resMaint>
<maintFreq>
<MaintFreqCd value="011"/>
</maintFreq>
</resMaint>
<graphOver>
<bgFileName>OPTIONAL: Provide the file name or URL for an available browse graphic image.</bgFileName>
<bgFileType>OPTIONAL: Indicate the file type for an available browse graphic image. For best results, size the graphic at 200 pixels by 133 pixels, and save it as a PNG, JPEG, or GIF.</bgFileType>
</graphOver>
<themeKeys>
<thesaName>
<resTitle>OPTIONAL: Indicate the name of the thesaurus used to draw standardized vocabulary associated with one or more theme keywords. Note that thesauri are not limited to formal 'thesauri' (e.g., Cowardin Wetland Classification, GCMD Science Keywords) and should include informal information, documents, and publications.</resTitle>
<date>
<reviseDate>2014-07-07T00:00:00</reviseDate>
</date>
</thesaName>
<keyword>flood, hurricane, remote sensing, radar</keyword>
</themeKeys>
<searchKeys>
<keyword>NC</keyword>
<keyword>The Nature Conservancy</keyword>
<keyword>environment</keyword>
<keyword>geoscientificInformation</keyword>
<keyword>inlandWaters</keyword>
<keyword>natural hazards</keyword>
<keyword>flood</keyword>
<keyword>hurricane</keyword>
<keyword>remote sensing</keyword>
<keyword>radar</keyword>
<keyword>NC</keyword>
<keyword>North Carolina</keyword>
<keyword>Department of Information Technology</keyword>
<keyword>DIT</keyword>
<keyword>Center for Geographic Information and Analysis</keyword>
<keyword>CGIA</keyword>
<keyword>NC OneMap</keyword>
</searchKeys>
<spatRpType>
<SpatRepTypCd value="002"/>
</spatRpType>
<dataLang>
<languageCode value="eng"/>
<countryCode Sync="TRUE" value="USA"/>
</dataLang>
<envirDesc Sync="TRUE">Microsoft Windows Server 2016 Technical Preview Version 10.0 (Build 17763) ; Esri ArcGIS 12.9.3.32739</envirDesc>
<dataExt>
<geoEle>
<GeoBndBox esriExtentType="search">
<exTypeCode Sync="TRUE">1</exTypeCode>
<westBL Sync="TRUE">-84.422142</westBL>
<eastBL Sync="TRUE">-75.355507</eastBL>
<northBL Sync="TRUE">36.617277</northBL>
<southBL Sync="TRUE">33.641943</southBL>
</GeoBndBox>
</geoEle>
</dataExt>
<idPurp>This data was created as part of a NatureNet Science Fellowship project initiated in 2018 by The Nature Conservancy and the Arizona State University Center for Biodiversity Outcomes to assess risks and identify solutions for nutrient pollution under extreme events. This dataset provides an estimate of inland flood extent under Hurricane Matthew (2016), and can help to inform planning efforts aimed at improving resilience to future storms. This is part of a collection of datasets produced as part of a study of the potential implications of repeated hurricanes for water quality in North Carolina. Complementary datasets include: Hurricane Florence (2018) estimated flood extent and opportunities for buyouts and watershed-scale nature-based solutions within flood-affected areas.
Note: Do not download this raster using the map at the top of the page. Instead, click Download then "Download Matthew flood extent raster." The link will take you to a page where the raster can be downloaded.</idPurp>
<idCredit>Schaffer-Smith, D., Myint, S.W., Muenich, R.L., Tong, D., and DeMeester, J.E. 2020. Repeated hurricanes reveal risks and opportunities for social-ecological resilience to flooding and water quality problems. Environmental Science &amp;amp; Technology. Schaffer-Smith, D. 2020. Hurricanes Matthew and Florence: impacts and opportunities to improve floodplain management. Knowledge Network for Biocomplexity. doi:10.5063/F1SB443J. https://knb.ecoinformatics.org/ Schaffer-Smith, D. 2020. Supporting code for: Schaffer-Smith, D., Myint, S.W., Muenich, R.L., Tong, D., &amp; DeMeester, J.E. 2020. Repeated hurricanes reveal risks and opportunities for social-ecological resilience to flooding and water quality problems. Environmental Science &amp; Technology. https://github.com/dschaffersmith/repeatFloodingNC</idCredit>
<resConst>
<Consts>
<useLimit>&lt;div style='text-align:Left;'&gt;&lt;div&gt;&lt;div&gt;&lt;p&gt;&lt;span&gt;Free reuse with attribution. Please cite the following resources:&lt;/span&gt;&lt;/p&gt;&lt;p&gt;&lt;span&gt;Schaffer-Smith, D., Myint, S.W., Muenich, R.L., Tong, D., and DeMeester, J.E. 2020. Repeated hurricanes reveal risks and opportunities for social-ecological resilience to flooding and water quality problems. Environmental Science &amp;amp;amp; Technology. &lt;/span&gt;&lt;/p&gt;&lt;p&gt;&lt;span&gt;Schaffer-Smith, D. 2020. Hurricanes Matthew and Florence: impacts and opportunities to improve floodplain management. Knowledge Network for Biocomplexity. doi:10.5063/F1SB443J. https://knb.ecoinformatics.org/&lt;/span&gt;&lt;/p&gt;&lt;p&gt;&lt;span&gt;Schaffer-Smith, D. 2020. Supporting code for: Schaffer-Smith, D., Myint, S.W., Muenich, R.L., Tong, D., &amp;amp; DeMeester, J.E. 2020. Repeated hurricanes reveal risks and opportunities for social-ecological resilience to flooding and water quality problems. Environmental Science &amp;amp; Technology. https://github.com/dschaffersmith/repeatFloodingNC&lt;/span&gt;&lt;/p&gt;&lt;p&gt;&lt;span&gt;https://www.nconemap.gov/pages/terms&lt;/span&gt;&lt;/p&gt;&lt;/div&gt;&lt;/div&gt;&lt;/div&gt;</useLimit>
</Consts>
</resConst>
<dataChar>
<CharSetCd value="004"/>
</dataChar>
<suppInfo>Schaffer-Smith, D., Myint, S.W., Muenich, R.L., Tong, D., and DeMeester, J.E. 2020. Repeated hurricanes reveal risks and opportunities for social-ecological resilience to flooding and water quality problems. Environmental Science &amp;amp; Technology. </suppInfo>
<placeKeys>
<keyword>North Carolina, Piedmont, Coastal Plain</keyword>
</placeKeys>
<tempKeys>
<keyword>2016</keyword>
</tempKeys>
<discKeys>
<keyword>hydrology, natural hazards, vulnerability, remote sensing, machine learning</keyword>
</discKeys>
<tpCat>
<TopicCatCd value="007"/>
</tpCat>
<tpCat>
<TopicCatCd value="008"/>
</tpCat>
<tpCat>
<TopicCatCd value="012"/>
</tpCat>
</dataIdInfo>
<mdMaint>
<maintFreq>
<MaintFreqCd value="011"/>
</maintFreq>
<maintCont>
<rpIndName>The Nature Conservancy North Carolina</rpIndName>
<rpCntInfo>
<cntAddress addressType="">
<delPoint>334 Blackwell St Suite 300</delPoint>
<city>Durham</city>
<adminArea>NC</adminArea>
<postCode>27701</postCode>
<eMailAdd>northcarolinachapter@tnc.org</eMailAdd>
<country>US</country>
</cntAddress>
<cntPhone>
<voiceNum tddtty="">919-403-8558</voiceNum>
</cntPhone>
</rpCntInfo>
<displayName>The Nature Conservancy North Carolina</displayName>
<role>
<RoleCd value="001"/>
</role>
</maintCont>
<maintCont>
<rpIndName>Margaret Fields</rpIndName>
<rpOrgName>The Nature Conservancy North Carolina</rpOrgName>
<rpPosName>GIS &amp; Invasives Coordinator</rpPosName>
<rpCntInfo>
<cntAddress addressType="">
<eMailAdd>mfields@tnc.org</eMailAdd>
</cntAddress>
</rpCntInfo>
<displayName>Margaret Fields</displayName>
<role>
<RoleCd value="007"/>
</role>
</maintCont>
</mdMaint>
<mdConst>
<Consts>
<useLimit>&lt;DIV STYLE="text-align:Left;"&gt;&lt;P&gt;&lt;SPAN&gt;Free reuse with attribution. Please cite the following resources:&lt;/SPAN&gt;&lt;/P&gt;&lt;P&gt;&lt;SPAN&gt;Schaffer-Smith, D., Myint, S.W., Muenich, R.L., Tong, D., and DeMeester, J.E. 2020. Repeated hurricanes reveal risks and opportunities for social-ecological resilience to flooding and water quality problems. Environmental Science &amp;amp;amp; Technology. &lt;/SPAN&gt;&lt;/P&gt;&lt;P&gt;&lt;SPAN&gt;Schaffer-Smith, D. 2020. Hurricanes Matthew and Florence: impacts and opportunities to improve floodplain management. Knowledge Network for Biocomplexity. doi:10.5063/F1SB443J. https://knb.ecoinformatics.org/&lt;/SPAN&gt;&lt;/P&gt;&lt;/DIV&gt;</useLimit>
</Consts>
</mdConst>
<dqInfo>
<dataLineage>
<prcStep>
<stepDesc>Flooded and non-flooded regions were delineated using a random forest classification model leveraging pre- and post-storm synthetic aperture radar from the European Space Agency's Sentinel-1 sensor, in addition to topography, floodplain, and landcover data. The classification model was trained with USGS and NCDEMS high-water marks, in addition to flooded and non-flooded regions delineated from high-resolution NOAA aerial photography; the model achieved 92.42% accuracy against an independent witheld sample. For additional details regarding the methods, please see the peer-reviewed publication and archive referenced in the Credits.</stepDesc>
<stepDateTm>2019-06-25T00:00:00</stepDateTm>
</prcStep>
</dataLineage>
<report dimension="" type="DQThemClassCor">
<measDesc>The classification model was validated with an independent sample witheld from the training set. Map accuracy was measured at 92.42% against the witheld sample. See the peer-reviewed publication and accompanying code for additional information about validation.</measDesc>
</report>
</dqInfo>
<spatRepInfo>
<Georect>
<cellGeo>
<CellGeoCd Sync="TRUE" value="002"/>
</cellGeo>
<numDims Sync="TRUE">2</numDims>
<tranParaAv Sync="TRUE">1</tranParaAv>
<chkPtAv Sync="TRUE">0</chkPtAv>
<cornerPts>
<pos Sync="TRUE">406823.424964 2690.254932</pos>
</cornerPts>
<cornerPts>
<pos Sync="TRUE">406823.424964 1043633.054985</pos>
</cornerPts>
<cornerPts>
<pos Sync="TRUE">3070269.541766 1043633.054985</pos>
</cornerPts>
<cornerPts>
<pos Sync="TRUE">3070269.541766 2690.254932</pos>
</cornerPts>
<centerPt>
<pos Sync="TRUE">1738546.483365 523161.654959</pos>
</centerPt>
<axisDimension type="002">
<dimSize Sync="TRUE">40591</dimSize>
<dimResol>
<value Sync="TRUE" uom="ftUS">65.616667</value>
</dimResol>
</axisDimension>
<axisDimension type="001">
<dimSize Sync="TRUE">15864</dimSize>
<dimResol>
<value Sync="TRUE" uom="ftUS">65.616667</value>
</dimResol>
</axisDimension>
<ptInPixel>
<PixOrientCd Sync="TRUE" value="001"/>
</ptInPixel>
</Georect>
</spatRepInfo>
<refSysInfo>
<RefSystem>
<refSysID>
<identCode code="EPSG:2264"/>
<idCodeSpace Sync="TRUE">EPSG</idCodeSpace>
<idVersion Sync="TRUE">6.12(9.0.0)</idVersion>
</refSysID>
</RefSystem>
</refSysInfo>
<contInfo>
<CovDesc>
<attDesc>Flooded and non-flooded regions</attDesc>
<contentTyp>
<ContentTypCd value="002"/>
</contentTyp>
</CovDesc>
<ImgDesc>
<contentTyp>
<ContentTypCd Sync="TRUE" value="001"/>
</contentTyp>
<covDim>
<Band>
<dimDescrp Sync="TRUE">Band_1</dimDescrp>
<maxVal Sync="TRUE">1.000000</maxVal>
