{ "currentVersion": 10.91, "serviceDescription": "
The data provide an estimate of flood extent following Hurricane Matthew (2016) across the Piedmont and Coastal Plain of North Carolina. Flooded and non-flooded regions were delineated using a random forest classification model leveraging pre- and post-storm synthetic aperture radar from the European Space Agency's Sentinel-1 sensor, in addition to topography, floodplain, and landcover data. The classification model was trained with USGS and NCDEMS high-water marks, in addition to flooded and non-flooded regions delineated from high-resolution NOAA aerial photography; the model achieved 92% accuracy against an independent withheld sample. This effort was aimed at identifying inland flooding and not storm surge. This dataset is not intended to replace North Carolina's Floodplain Mapping Program hazard projections. For additional details regarding the methods, please see the peer-reviewed publication and data and code archives referenced in the Credits below.<\/span><\/p> Note: Do not download this raster using the map at the top of the page. Instead, click Download then \"Download Matthew flood extent raster.\" The link will take you to a page where the raster can be downloaded.<\/span><\/p><\/div><\/div><\/div>",
"name": "Matthew_Flood_Extent",
"description": " The data provide an estimate of flood extent following Hurricane Matthew (2016) across the Piedmont and Coastal Plain of North Carolina. Flooded and non-flooded regions were delineated using a random forest classification model leveraging pre- and post-storm synthetic aperture radar from the European Space Agency's Sentinel-1 sensor, in addition to topography, floodplain, and landcover data. The classification model was trained with USGS and NCDEMS high-water marks, in addition to flooded and non-flooded regions delineated from high-resolution NOAA aerial photography; the model achieved 92% accuracy against an independent withheld sample. This effort was aimed at identifying inland flooding and not storm surge. This dataset is not intended to replace North Carolina's Floodplain Mapping Program hazard projections. For additional details regarding the methods, please see the peer-reviewed publication and data and code archives referenced in the Credits below.<\/span><\/p> Note: Do not download this raster using the map at the top of the page. Instead, click Download then \"Download Matthew flood extent raster.\" The link will take you to a page where the raster can be downloaded.<\/span><\/p><\/div><\/div><\/div>",
"extent": {
"xmin": 406823.42496438324,
"ymin": 2690.2549320919206,
"xmax": 3070269.5417663534,
"ymax": 1043633.0549849719,
"spatialReference": {
"wkid": 102719,
"latestWkid": 2264
}
},
"initialExtent": {
"xmin": 406823.42496438324,
"ymin": 2690.2549320919206,
"xmax": 3070269.5417663534,
"ymax": 1043633.0549849719,
"spatialReference": {
"wkid": 102719,
"latestWkid": 2264
}
},
"fullExtent": {
"xmin": 406823.42496438324,
"ymin": 2690.2549320919206,
"xmax": 3070269.5417663534,
"ymax": 1043633.0549849719,
"spatialReference": {
"wkid": 102719,
"latestWkid": 2264
}
},
"hasMultidimensions": false,
"pixelSizeX": 65.61666667,
"pixelSizeY": 65.61666667,
"datasetFormat": "AMD",
"uncompressedSize": 643935624,
"blockWidth": 2048,
"blockHeight": 256,
"compressionType": "None",
"bandNames": [
"Band_1"
],
"allowCopy": true,
"allowAnalysis": true,
"bandCount": 1,
"noDataValue": 0,
"noDataValues": [
0
],
"pixelType": "U8",
"minPixelSize": 0,
"maxPixelSize": 0,
"copyrightText": "Schaffer-Smith, D., Myint, S.W., Muenich, R.L., Tong, D., and DeMeester, J.E. 2020. Repeated hurricanes reveal risks and opportunities for social-ecological resilience to flooding and water quality problems. Environmental Science & Technology. Schaffer-Smith, D. 2020. Hurricanes Matthew and Florence: impacts and opportunities to improve floodplain management. Knowledge Network for Biocomplexity. doi:10.5063/F1SB443J. https://knb.ecoinformatics.org/ Schaffer-Smith, D. 2020. Supporting code for: Schaffer-Smith, D., Myint, S.W., Muenich, R.L., Tong, D., & DeMeester, J.E. 2020. Repeated hurricanes reveal risks and opportunities for social-ecological resilience to flooding and water quality problems. Environmental Science & Technology. https://github.com/dschaffersmith/repeatFloodingNC",
"serviceDataType": "esriImageServiceDataTypeGeneric",
"serviceSourceType": "esriImageServiceSourceTypeMosaicDataset",
"minValues": [],
"maxValues": [],
"meanValues": [],
"stdvValues": [],
"objectIdField": "objectid",
"fields": [
{
"name": "objectid",
"type": "esriFieldTypeOID",
"alias": "OBJECTID",
"domain": null
},
{
"name": "name",
"type": "esriFieldTypeString",
"alias": "Name",
"domain": null,
"length": 200
},
{
"name": "minps",
"type": "esriFieldTypeDouble",
"alias": "MinPS",
"domain": null
},
{
"name": "maxps",
"type": "esriFieldTypeDouble",
"alias": "MaxPS",
"domain": null
},
{
"name": "lowps",
"type": "esriFieldTypeDouble",
"alias": "LowPS",
"domain": null
},
{
"name": "highps",
"type": "esriFieldTypeDouble",
"alias": "HighPS",
"domain": null
},
{
"name": "category",
"type": "esriFieldTypeInteger",
"alias": "Category",
"domain": {
"type": "codedValue",
"name": "MosaicCatalogItemCategoryDomain",
"description": "Catalog item categories.",
"codedValues": [
{
"name": "Unknown",
"code": 0
},
{
"name": "Primary",
"code": 1
},
{
"name": "Overview",
"code": 2
},
{
"name": "Unprocessed Overview",
"code": 3
},
{
"name": "Partial Overview",
"code": 4
},
{
"name": "Inactive",
"code": 5
},
{
"name": "Uploaded",
"code": 253
},
{
"name": "Incomplete",
"code": 254
},
{
"name": "Custom",
"code": 255
}
],
"mergePolicy": "esriMPTDefaultValue",
"splitPolicy": "esriSPTDefaultValue"
}
},
{
"name": "tag",
"type": "esriFieldTypeString",
"alias": "Tag",
"domain": null,
"length": 100
},
{
"name": "groupname",
"type": "esriFieldTypeString",
"alias": "GroupName",
"domain": null,
"length": 100
},
{
"name": "productname",
"type": "esriFieldTypeString",
"alias": "ProductName",
"domain": null,
"length": 100
},
{
"name": "centerx",
"type": "esriFieldTypeDouble",
"alias": "CenterX",
"domain": null
},
{
"name": "centery",
"type": "esriFieldTypeDouble",
"alias": "CenterY",
"domain": null
},
{
"name": "zorder",
"type": "esriFieldTypeInteger",
"alias": "ZOrder",
"domain": null
},
{
"name": "shape",
"type": "esriFieldTypeGeometry",
"alias": "Shape",
"domain": null
}
],
"capabilities": "Catalog,Image,Metadata",
"defaultMosaicMethod": "Northwest",
"allowedMosaicMethods": "NorthWest,Center,LockRaster,ByAttribute,Nadir,Viewpoint,Seamline,None",
"sortField": "",
"sortValue": null,
"sortAscending": true,
"mosaicOperator": "First",
"maxDownloadSizeLimit": 2048,
"defaultCompressionQuality": 75,
"defaultResamplingMethod": "Bilinear",
"maxImageHeight": 4100,
"maxImageWidth": 15000,
"maxRecordCount": 1000,
"maxDownloadImageCount": 20,
"maxMosaicImageCount": 20,
"allowRasterFunction": true,
"rasterFunctionInfos": [
{
"name": "Bath2",
"description": "convert to bathymetry symbology",
"help": ""
},
{
"name": "None",
"description": "Make a Raster or Raster Dataset into a Function Raster Dataset.",
"help": ""
}
],
"rasterTypeInfos": [
{
"name": "Raster Dataset",
"description": "Supports all ArcGIS Raster Datasets",
"help": ""
}
],
"mensurationCapabilities": "Basic",
"hasHistograms": false,
"hasColormap": false,
"hasRasterAttributeTable": false,
"minScale": 0,
"maxScale": 0,
"exportTilesAllowed": false,
"supportsStatistics": true,
"supportsAdvancedQueries": true,
"editFieldsInfo": null,
"ownershipBasedAccessControlForRasters": null,
"allowComputeTiePoints": false,
"useStandardizedQueries": true,
"advancedQueryCapabilities": {
"useStandardizedQueries": true,
"supportsStatistics": true,
"supportsOrderBy": true,
"supportsDistinct": true,
"supportsPagination": true
},
"spatialReference": {
"wkid": 102719,
"latestWkid": 2264
}
}