View In:
ArcGIS JavaScript
ArcGIS Online Map Viewer
ArcGIS Earth
ArcMap
View Footprint In:
ArcGIS Online Map Viewer
Service Description: The North Carolina Center for Geographic Information and Analysis, in cooperation with the NC Department of Transportation and United States Environmental Protection Agency Region IV Wetlands Division, contracted Earth Satellite Corporation (EarthSat) of Rockville, Maryland to generate comprehensive land cover data for the entire state of North Carolina. EarthSat was awarded the base/municipal area deduct contract in response to request for proposal (RFP) number 503768, issued 12 July 1995. This data is the ERDAS raster file of filtered, classified, statewide land cover used to create the vectorized data.
Name: NC1Map_Landcover_Raster
Description: The North Carolina Center for Geographic Information and Analysis, in cooperation with the NC Department of Transportation and United States Environmental Protection Agency Region IV Wetlands Division, contracted Earth Satellite Corporation (EarthSat) of Rockville, Maryland to generate comprehensive land cover data for the entire state of North Carolina. EarthSat was awarded the base/municipal area deduct contract in response to request for proposal (RFP) number 503768, issued 12 July 1995. This data is the ERDAS raster file of filtered, classified, statewide land cover used to create the vectorized data.
Single Fused Map Cache: false
Extent:
XMin: 143393.7523497194
YMin: -37354.74825818208
XMax: 3146734.2023497187
YMax: 1158558.2142418176
Spatial Reference: 102719
(2264)
Initial Extent:
XMin: 143393.7523497194
YMin: -37354.74825818208
XMax: 3146734.2023497187
YMax: 1158558.2142418176
Spatial Reference: 102719
(2264)
Full Extent:
XMin: 143393.7523497194
YMin: -37354.74825818208
XMax: 3146734.2023497187
YMax: 1158558.2142418176
Spatial Reference: 102719
(2264)
Pixel Size X: 93.50374999999998
Pixel Size Y: 93.50374999999997
Band Count: 3
Pixel Type: U8
RasterFunction Infos: {"rasterFunctionInfos": [{
"name": "None",
"description": "",
"help": ""
}]}
Mensuration Capabilities: None
Has Histograms: true
Has Colormap: false
Has Multi Dimensions : false
Rendering Rule:
Min Scale: 0
Max Scale: 0
Copyright Text: USEPA, NCCGIA
Service Data Type: esriImageServiceDataTypeRGB
Min Values: 0, 0, 0
Max Values: 255, 255, 255
Mean Values: 228.96678791249633, 214.40297806806433, 198.16183443305667
Standard Deviation Values: 61.662109763609955, 67.91312239812147, 88.72007959500041
Object ID Field: OBJECTID
Fields:
-
OBJECTID
(
type: esriFieldTypeOID, alias: OBJECTID
)
-
Shape
(
type: esriFieldTypeGeometry, alias: Shape
)
-
Name
(
type: esriFieldTypeString, alias: Name, length: 200
)
-
MinPS
(
type: esriFieldTypeDouble, alias: MinPS
)
-
MaxPS
(
type: esriFieldTypeDouble, alias: MaxPS
)
-
LowPS
(
type: esriFieldTypeDouble, alias: LowPS
)
-
HighPS
(
type: esriFieldTypeDouble, alias: HighPS
)
-
Category
(
type: esriFieldTypeInteger, alias: Category
, Coded Values:
[0: Unknown]
, [1: Primary]
, [2: Overview]
, ...6 more...
)
-
Tag
(
type: esriFieldTypeString, alias: Tag, length: 100
)
-
GroupName
(
type: esriFieldTypeString, alias: GroupName, length: 100
)
-
ProductName
(
type: esriFieldTypeString, alias: ProductName, length: 100
)
-
CenterX
(
type: esriFieldTypeDouble, alias: CenterX
)
-
CenterY
(
type: esriFieldTypeDouble, alias: CenterY
)
-
ZOrder
(
type: esriFieldTypeInteger, alias: ZOrder
)
-
Shape_Length
(
type: esriFieldTypeDouble, alias: Shape_Length
)
-
Shape_Area
(
type: esriFieldTypeDouble, alias: Shape_Area
)
Default Mosaic Method: Northwest
Allowed Mosaic Methods: NorthWest,Center,LockRaster,ByAttribute,Nadir,Viewpoint,Seamline,None
SortField:
SortValue: null
Mosaic Operator: First
Default Compression Quality: 75
Default Resampling Method: Bilinear
Max Record Count: 1000
Max Image Height: 4100
Max Image Width: 15000
Max Download Image Count: 20
Max Mosaic Image Count: 20
Allow Raster Function: true
Allow Compute TiePoints: false
Supports Statistics: true
Supports Advanced Queries: true
Use StandardizedQueries: true
Raster Type Infos:
Name: Raster Dataset
Description: Supports all ArcGIS Raster Datasets
Help:
Has Raster Attribute Table: false
Edit Fields Info: null
Ownership Based AccessControl For Rasters: null
Child Resources:
Info
Histograms
Key Properties
Legend
MultiDimensionalInfo
rasterFunctionInfos
Supported Operations:
Export Image
Query
Identify
Compute Histograms
Compute Statistics Histograms
Get Samples
Compute Class Statistics
Query Boundary
Compute Pixel Location