View In:
ArcGIS JavaScript
ArcGIS Online Map Viewer
ArcGIS Earth
ArcMap
View Footprint In:
ArcGIS Online Map Viewer
Service Description: This service represents grey scale raster imagery of material deployed at artificial reef sites managed by the North Carolina Division of Marine Fisheries. The service is comprised of GeoTiff imagery collected between 2000 and 2015. Data was collected via side scan sonar, and converted to GeoTiff format in post-processing using Chesapeake Technologies SonarWiz software.
Name: Artificial_Reef_Sonar_Scans
Description: This service represents grey scale raster imagery of material deployed at artificial reef sites managed by the North Carolina Division of Marine Fisheries. The service is comprised of GeoTiff imagery collected between 2000 and 2015. Data was collected via side scan sonar, and converted to GeoTiff format in post-processing using Chesapeake Technologies SonarWiz software.
Single Fused Map Cache: false
Extent:
XMin: 2190808.390451893
YMin: -130529.80510609923
XMax: 3068824.4902474643
YMax: 840163.3946678936
Spatial Reference: 103122
(6543)
Initial Extent:
XMin: 2190808.390451893
YMin: -130529.80510609923
XMax: 3068824.4902474643
YMax: 840163.3946678936
Spatial Reference: 103122
(6543)
Full Extent:
XMin: 2190808.390451893
YMin: -130529.80510609923
XMax: 3068824.4902474643
YMax: 840163.3946678936
Spatial Reference: 103122
(6543)
Pixel Size X: 0.09999999997671695
Pixel Size Y: 0.09999999997671694
Band Count: 1
Pixel Type: U8
RasterFunction Infos: {"rasterFunctionInfos": [{
"name": "None",
"description": "",
"help": ""
}]}
Mensuration Capabilities: Basic
Has Histograms: true
Has Colormap: false
Has Multi Dimensions : false
Rendering Rule:
Min Scale: 0
Max Scale: 0
Copyright Text: NC DEQ, NC CGIA
Service Data Type: esriImageServiceDataTypeProcessed
Min Values: 0
Max Values: 255
Mean Values: 126.42429906542047
Standard Deviation Values: 73.65303165091758
Object ID Field: OBJECTID
Fields:
-
OBJECTID
(
type: esriFieldTypeOID, alias: OBJECTID
)
-
Shape
(
type: esriFieldTypeGeometry, alias: Shape
)
-
Name
(
type: esriFieldTypeString, alias: Name, length: 200
)
-
MinPS
(
type: esriFieldTypeDouble, alias: MinPS
)
-
MaxPS
(
type: esriFieldTypeDouble, alias: MaxPS
)
-
LowPS
(
type: esriFieldTypeDouble, alias: LowPS
)
-
HighPS
(
type: esriFieldTypeDouble, alias: HighPS
)
-
Category
(
type: esriFieldTypeInteger, alias: Category
, Coded Values:
[0: Unknown]
, [1: Primary]
, [2: Overview]
, ...6 more...
)
-
Tag
(
type: esriFieldTypeString, alias: Tag, length: 100
)
-
GroupName
(
type: esriFieldTypeString, alias: GroupName, length: 100
)
-
ProductName
(
type: esriFieldTypeString, alias: ProductName, length: 100
)
-
CenterX
(
type: esriFieldTypeDouble, alias: CenterX
)
-
CenterY
(
type: esriFieldTypeDouble, alias: CenterY
)
-
ZOrder
(
type: esriFieldTypeInteger, alias: ZOrder
)
-
Shape_Length
(
type: esriFieldTypeDouble, alias: Shape_Length
)
-
Shape_Area
(
type: esriFieldTypeDouble, alias: Shape_Area
)
Default Mosaic Method: Northwest
Allowed Mosaic Methods: NorthWest,Center,LockRaster,ByAttribute,Nadir,Viewpoint,Seamline,None
SortField:
SortValue: null
Mosaic Operator: First
Default Compression Quality: 10000
Default Resampling Method: Bilinear
Max Record Count: 1000
Max Image Height: 4100
Max Image Width: 15000
Max Download Image Count: 20
Max Mosaic Image Count: 20
Allow Raster Function: true
Allow Compute TiePoints: false
Supports Statistics: true
Supports Advanced Queries: true
Use StandardizedQueries: true
Raster Type Infos:
Name: Raster Dataset
Description: Supports all ArcGIS Raster Datasets
Help:
Has Raster Attribute Table: false
Edit Fields Info: null
Ownership Based AccessControl For Rasters: null
Child Resources:
Info
Histograms
Key Properties
Legend
MultiDimensionalInfo
rasterFunctionInfos
Supported Operations:
Export Image
Query
Identify
Compute Histograms
Compute Statistics Histograms
Get Samples
Compute Class Statistics
Query Boundary
Compute Pixel Location