View In:
ArcGIS JavaScript
ArcGIS Online Map Viewer
ArcGIS Earth
ArcMap
View Footprint In:
ArcGIS Online Map Viewer
Service Description: Flooded and non-flooded regions were delineated from recent Hurricanes using a random forest classification model leveraging pre- and post-storm synthetic aperture radar from the European Space Agency's Sentinel-1 sensor, in addition to topography, floodplain, and landcover data. The classification model was trained with USGS and NCDEMS high-water marks, in addition to flooded and non-flooded regions delineated from high-resolution NOAA aerial photography; the model achieved >91% accuracy against an independent withheld samplefor each storm. Within regions where flooding was detected, opportunities for buyouts, conservation of forests and wetlands, or lands where restoration or easements could be implemented were identified using the National Land Cover Dataset (2011). For additional details regarding the methods, please see the peer-reviewed publication and data and code archives referenced in the Credits below.
Name: Floodplain_Resilience
Description: Flooded and non-flooded regions were delineated from recent Hurricanes using a random forest classification model leveraging pre- and post-storm synthetic aperture radar from the European Space Agency's Sentinel-1 sensor, in addition to topography, floodplain, and landcover data. The classification model was trained with USGS and NCDEMS high-water marks, in addition to flooded and non-flooded regions delineated from high-resolution NOAA aerial photography; the model achieved >91% accuracy against an independent withheld samplefor each storm. Within regions where flooding was detected, opportunities for buyouts, conservation of forests and wetlands, or lands where restoration or easements could be implemented were identified using the National Land Cover Dataset (2011). For additional details regarding the methods, please see the peer-reviewed publication and data and code archives referenced in the Credits below.
Single Fused Map Cache: false
Extent:
XMin: 1191434.721284088
YMin: 30682.296821156167
XMax: 3075104.7212840877
YMax: 1042222.2968211562
Spatial Reference: 102719
(2264)
Initial Extent:
XMin: 1191434.721284088
YMin: 30682.296821156167
XMax: 3075104.7212840877
YMax: 1042222.2968211562
Spatial Reference: 102719
(2264)
Full Extent:
XMin: 1191434.721284088
YMin: 30682.296821156167
XMax: 3075104.7212840877
YMax: 1042222.2968211562
Spatial Reference: 102719
(2264)
Pixel Size X: 29.999999999999996
Pixel Size Y: 30.0
Band Count: 3
Pixel Type: U8
RasterFunction Infos: {"rasterFunctionInfos": [{
"name": "None",
"description": "",
"help": ""
}]}
Mensuration Capabilities: Basic
Has Histograms: false
Has Colormap: false
Has Multi Dimensions : false
Rendering Rule:
Min Scale: 0
Max Scale: 0
Copyright Text: Schaffer-Smith, D., Myint, S.W., Muenich, R.L., Tong, D., and DeMeester, J.E. 2020. Repeated hurricanes reveal risks and opportunities for social-ecological resilience to flooding and water quality problems. Environmental Science & Technology. Schaffer-Smith, D. 2020. Hurricanes Matthew and Florence: impacts and opportunities to improve floodplain management. Knowledge Network for Biocomplexity. doi:10.5063/F1SB443J. https://knb.ecoinformatics.org/ Schaffer-Smith, D. 2020. Supporting code for: Schaffer-Smith, D., Myint, S.W., Muenich, R.L., Tong, D., & DeMeester, J.E. 2020. Repeated hurricanes reveal risks and opportunities for social-ecological resilience to flooding and water quality problems. Environmental Science & Technology. https://github.com/dschaffersmith/repeatFloodingNC
Service Data Type: esriImageServiceDataTypeThematic
Min Values: N/A
Max Values: N/A
Mean Values: N/A
Standard Deviation Values: N/A
Object ID Field:
Fields:
None
Default Mosaic Method: Center
Allowed Mosaic Methods:
SortField:
SortValue: null
Mosaic Operator: First
Default Compression Quality: 75
Default Resampling Method: Bilinear
Max Record Count: null
Max Image Height: 4100
Max Image Width: 15000
Max Download Image Count: null
Max Mosaic Image Count: null
Allow Raster Function: true
Allow Compute TiePoints: false
Supports Statistics: false
Supports Advanced Queries: false
Use StandardizedQueries: true
Raster Type Infos:
Name: Raster Dataset
Description: Supports all ArcGIS Raster Datasets
Help:
Has Raster Attribute Table: false
Edit Fields Info: null
Ownership Based AccessControl For Rasters: null
Child Resources:
Info
Key Properties
Legend
MultiDimensionalInfo
rasterFunctionInfos
Supported Operations:
Export Image
Identify
Measure
Compute Histograms
Compute Statistics Histograms
Get Samples
Compute Class Statistics
Query Boundary
Compute Pixel Location