View In:
ArcGIS JavaScript
ArcGIS Online Map Viewer
ArcGIS Earth
ArcMap
View Footprint In:
ArcGIS Online Map Viewer
Service Description: Change abstract according to year.
Depicts imagery (3-band, true color) for the <NUMBER> counties representing <REGION NAME> of North Carolina. The imagery was flown in YYYY as part of the NC Orthoimagery Program and has a pixel resolution of 6 inches. The RMSE is 1.0 ft X and Y. Pixel values have been altered during processing so this data is best suited for general viewing and should not be used for raster analysis.
Name: Imagery/Orthoimagery_2009
Description: Change abstract according to year.
Depicts imagery (3-band, true color) for the <NUMBER> counties representing <REGION NAME> of North Carolina. The imagery was flown in YYYY as part of the NC Orthoimagery Program and has a pixel resolution of 6 inches. The RMSE is 1.0 ft X and Y. Pixel values have been altered during processing so this data is best suited for general viewing and should not be used for raster analysis.
Single Fused Map Cache: false
Extent:
XMin: 1109999.999865964
YMin: 454999.99987989664
XMax: 2789999.999865964
YMax: 1029999.9998798966
Spatial Reference: 103122
(6543)
Initial Extent:
XMin: 1109999.999865964
YMin: 454999.99987989664
XMax: 2789999.999865964
YMax: 1029999.9998798966
Spatial Reference: 103122
(6543)
Full Extent:
XMin: 1109999.999865964
YMin: 454999.99987989664
XMax: 2789999.999865964
YMax: 1029999.9998798966
Spatial Reference: 103122
(6543)
Pixel Size X: 0.5
Pixel Size Y: 0.5
Band Count: 3
Pixel Type: U8
RasterFunction Infos: {"rasterFunctionInfos": [{
"name": "None",
"description": "",
"help": ""
}]}
Mensuration Capabilities: Basic
Has Histograms: true
Has Colormap: false
Has Multi Dimensions : false
Rendering Rule:
Min Scale: 0
Max Scale: 0
Copyright Text: NCCGIA, NC 911 Board
Service Data Type: esriImageServiceDataTypeProcessed
Min Values: 0, 0, 0
Max Values: 255, 255, 255
Mean Values: 95.5657228322552, 93.23931179961164, 80.26331156964221
Standard Deviation Values: 43.40799302223373, 39.06687806956302, 34.13712826869412
Object ID Field: objectid
Fields:
-
objectid
(
type: esriFieldTypeOID, alias: OBJECTID
)
-
name
(
type: esriFieldTypeString, alias: Name, length: 200
)
-
minps
(
type: esriFieldTypeDouble, alias: MinPS
)
-
maxps
(
type: esriFieldTypeDouble, alias: MaxPS
)
-
lowps
(
type: esriFieldTypeDouble, alias: LowPS
)
-
highps
(
type: esriFieldTypeDouble, alias: HighPS
)
-
category
(
type: esriFieldTypeInteger, alias: Category
, Coded Values:
[0: Unknown]
, [1: Primary]
, [2: Overview]
, ...6 more...
)
-
tag
(
type: esriFieldTypeString, alias: Tag, length: 100
)
-
groupname
(
type: esriFieldTypeString, alias: GroupName, length: 100
)
-
productname
(
type: esriFieldTypeString, alias: ProductName, length: 100
)
-
centerx
(
type: esriFieldTypeDouble, alias: CenterX
)
-
centery
(
type: esriFieldTypeDouble, alias: CenterY
)
-
zorder
(
type: esriFieldTypeInteger, alias: ZOrder
)
-
date
(
type: esriFieldTypeDate, alias: date, length: 8
)
-
shape
(
type: esriFieldTypeGeometry, alias: Shape
)
Default Mosaic Method: Northwest
Allowed Mosaic Methods: NorthWest,Center,LockRaster,ByAttribute,Nadir,Viewpoint,Seamline,None
SortField:
SortValue: null
Mosaic Operator: First
Default Compression Quality: 80
Default Resampling Method: Bilinear
Max Record Count: 1000
Max Image Height: 4100
Max Image Width: 15000
Max Download Image Count: 20
Max Mosaic Image Count: 20
Allow Raster Function: true
Allow Copy: true
Allow Analysis: true
Allow Compute TiePoints: false
Supports Statistics: true
Supports Advanced Queries: true
Use StandardizedQueries: true
Raster Type Infos:
Name: Raster Dataset
Description: Supports all ArcGIS Raster Datasets
Help:
Has Raster Attribute Table: false
Edit Fields Info: null
Ownership Based AccessControl For Rasters: null
Child Resources:
Info
Histograms
Statistics
Key Properties
Legend
Raster Function Infos
Supported Operations:
Export Image
Query
Identify
Measure
Compute Histograms
Compute Statistics Histograms
Get Samples
Compute Class Statistics
Query Boundary
Compute Pixel Location
Compute Angles
Validate
Project