View In:
ArcGIS JavaScript
ArcGIS Online Map Viewer
ArcGIS Earth
ArcMap
View Footprint In:
ArcGIS Online Map Viewer
Service Description: A digital elevation model (DEM) for North Carolina. The grid cell size is 20 feet. Data used to create the DEM was derived from LIDAR collected by NC Floodplain Mapping Program and processed by NC DOT - GIS Unit. NOTE: This should only be used as an image service. If there is a need to download elevation data go to NC Emergency Management's Spatial Data Download site at https://sdd.nc.gov. Do not use the Download menu in ArcGIS Hub.
A hillshade map. Grid cell size is 20 ft. A vertical exaggeration factor of 3 used for visual effect. Data derived from LIDAR collected by NC Floodplain Mapping Program and processed by NC DOT - GIS Unit.
Name: Elevation/DEM20ft_Hillshade
Description: A digital elevation model (DEM) for North Carolina. The grid cell size is 20 feet. Data used to create the DEM was derived from LIDAR collected by NC Floodplain Mapping Program and processed by NC DOT - GIS Unit. NOTE: This should only be used as an image service. If there is a need to download elevation data go to NC Emergency Management's Spatial Data Download site at https://sdd.nc.gov. Do not use the Download menu in ArcGIS Hub.
A hillshade map. Grid cell size is 20 ft. A vertical exaggeration factor of 3 used for visual effect. Data derived from LIDAR collected by NC Floodplain Mapping Program and processed by NC DOT - GIS Unit.
Single Fused Map Cache: false
Extent:
XMin: 406806.66688221693
YMin: 32359.999838471413
XMax: 3052346.666882217
YMax: 1043619.9998384714
Spatial Reference: 102719
(2264)
LatestVCSWkid(0)
Initial Extent:
XMin: 406806.66688221693
YMin: 32359.999838471413
XMax: 3052346.666882217
YMax: 1043619.9998384714
Spatial Reference: 102719
(2264)
LatestVCSWkid(0)
Full Extent:
XMin: 406806.66688221693
YMin: 32359.999838471413
XMax: 3052346.666882217
YMax: 1043619.9998384714
Spatial Reference: 102719
(2264)
LatestVCSWkid(0)
Pixel Size X: 20.0
Pixel Size Y: 20.0
Band Count: 1
Pixel Type: S16
RasterFunction Infos: {"rasterFunctionInfos": [
{
"name": "hillshade",
"description": "A raster function template.",
"help": ""
},
{
"name": "None",
"description": "Make a Raster or Raster Dataset into a Function Raster Dataset.",
"help": ""
}
]}
Mensuration Capabilities: Basic
Has Histograms: true
Has Colormap: false
Has Multi Dimensions : false
Rendering Rule:
Min Scale: 0
Max Scale: 0
Copyright Text: NC OneMap, NC Center for Geographic Information and Analysis; NC Dept. of Transportation - GIS Unit; NC Floodplain Mapping Program
Service Data Type: esriImageServiceDataTypeGeneric
Min Values: -131
Max Values: 6682
Mean Values: 700.0872829012287
Standard Deviation Values: 994.2718067223889
Object ID Field: objectid
Fields:
-
objectid
(
type: esriFieldTypeOID, alias: OBJECTID
)
-
name
(
type: esriFieldTypeString, alias: Name, length: 200
)
-
minps
(
type: esriFieldTypeDouble, alias: MinPS
)
-
maxps
(
type: esriFieldTypeDouble, alias: MaxPS
)
-
lowps
(
type: esriFieldTypeDouble, alias: LowPS
)
-
highps
(
type: esriFieldTypeDouble, alias: HighPS
)
-
category
(
type: esriFieldTypeInteger, alias: Category
, Coded Values:
[0: Unknown]
, [1: Primary]
, [2: Overview]
, ...6 more...
)
-
tag
(
type: esriFieldTypeString, alias: Tag, length: 100
)
-
groupname
(
type: esriFieldTypeString, alias: GroupName, length: 100
)
-
productname
(
type: esriFieldTypeString, alias: ProductName, length: 100
)
-
centerx
(
type: esriFieldTypeDouble, alias: CenterX
)
-
centery
(
type: esriFieldTypeDouble, alias: CenterY
)
-
zorder
(
type: esriFieldTypeInteger, alias: ZOrder
)
-
shape
(
type: esriFieldTypeGeometry, alias: Shape
)
Default Mosaic Method: Northwest
Allowed Mosaic Methods: NorthWest,Center,LockRaster,ByAttribute,Nadir,Viewpoint,Seamline,None
SortField:
SortValue: null
Mosaic Operator: First
Default Compression Quality: 10000
Default Resampling Method: Bilinear
Max Record Count: 1000
Max Image Height: 10000
Max Image Width: 15000
Max Download Image Count: 20
Max Mosaic Image Count: 20
Allow Raster Function: true
Allow Copy: true
Allow Analysis: true
Allow Compute TiePoints: false
Supports Statistics: true
Supports Advanced Queries: true
Use StandardizedQueries: true
Raster Type Infos:
Name: Raster Dataset
Description: Supports all ArcGIS Raster Datasets
Help:
Has Raster Attribute Table: false
Edit Fields Info: null
Ownership Based AccessControl For Rasters: null
Child Resources:
Info
Histograms
Statistics
Key Properties
Legend
Raster Function Infos
Supported Operations:
Export Image
Query
Identify
Download Rasters
Measure
Compute Histograms
Compute Statistics Histograms
Get Samples
Compute Class Statistics
Query Boundary
Compute Pixel Location
Compute Angles
Validate
Project