View In:
ArcGIS JavaScript
ArcGIS Online Map Viewer
ArcGIS Earth
ArcMap
View Footprint In:
ArcGIS Online Map Viewer
Service Description: This dataset contains lidar change-detection information for 27 Western North Carolina Counties. This data supports the North Carolina Geological Survey's (NCGS) independent review of potential landslides and other ground-surface changes. It is based on lidar data published by the North Carolina Department of Public Safety for the years 2016, 2017, and 2025. Two raster function templates are included to perform the necessary preprocessing. NCGS_LCD_classifier provides a pre-rendered, cartographic version of the data whlle NCGS_LCD supports analyses and allows users to view actual gain/loss values for impacted areas.
Name: Elevation/NC_land_change_detection
Description: This dataset contains lidar change-detection information for 27 Western North Carolina Counties. This data supports the North Carolina Geological Survey's (NCGS) independent review of potential landslides and other ground-surface changes. It is based on lidar data published by the North Carolina Department of Public Safety for the years 2016, 2017, and 2025. Two raster function templates are included to perform the necessary preprocessing. NCGS_LCD_classifier provides a pre-rendered, cartographic version of the data whlle NCGS_LCD supports analyses and allows users to view actual gain/loss values for impacted areas.
Single Fused Map Cache: false
Extent:
XMin: 406811.8600268811
YMin: 479998.4064127186
XMax: 1697501.8548091212
YMax: 1043659.2898406386
Spatial Reference: 103122
(6543)
Initial Extent:
XMin: 406811.8600268811
YMin: 479998.4064127186
XMax: 1697501.8548091212
YMax: 1043659.2898406386
Spatial Reference: 103122
(6543)
Full Extent:
XMin: 406811.8600268811
YMin: 479998.4064127186
XMax: 1697501.8548091212
YMax: 1043659.2898406386
Spatial Reference: 103122
(6543)
Pixel Size X: 1.49989192
Pixel Size Y: 1.49989192
Band Count: 1
Pixel Type: U32
RasterFunction Infos: {"rasterFunctionInfos": [
{
"name": "NCGS_LCD",
"description": "Multiplies cell values x 0.01 to get true height. Symbolized based on colormap. ",
"help": ""
},
{
"name": "NCGS_LCD_classifier",
"description": "Multiplies cell values x 0.01 to get true height. Symbolized based on colormap. ",
"help": ""
},
{
"name": "None",
"description": "",
"help": ""
}
]}
Mensuration Capabilities: Basic
Has Histograms: true
Has Colormap: false
Has Multi Dimensions : false
Rendering Rule:
Min Scale: 0
Max Scale: 0
Copyright Text: NCGS
Service Data Type: esriImageServiceDataTypeGeneric
Min Values: -29102
Max Values: 18719
Mean Values: -2.3963120894125254
Standard Deviation Values: 71.68178255675885
Object ID Field: objectid
Fields:
-
objectid
(
type: esriFieldTypeOID, alias: objectid
)
-
name
(
type: esriFieldTypeString, alias: name, length: 200
)
-
minps
(
type: esriFieldTypeDouble, alias: minps
)
-
maxps
(
type: esriFieldTypeDouble, alias: maxps
)
-
lowps
(
type: esriFieldTypeDouble, alias: lowps
)
-
highps
(
type: esriFieldTypeDouble, alias: highps
)
-
category
(
type: esriFieldTypeInteger, alias: category
, Coded Values:
[0: Unknown]
, [1: Primary]
, [2: Overview]
, ...6 more...
)
-
tag
(
type: esriFieldTypeString, alias: tag, length: 100
)
-
groupname
(
type: esriFieldTypeString, alias: groupname, length: 100
)
-
productname
(
type: esriFieldTypeString, alias: productname, length: 100
)
-
centerx
(
type: esriFieldTypeDouble, alias: centerx
)
-
centery
(
type: esriFieldTypeDouble, alias: centery
)
-
zorder
(
type: esriFieldTypeInteger, alias: zorder
)
-
shape
(
type: esriFieldTypeGeometry, alias: shape
)
Default Mosaic Method: Center
Allowed Mosaic Methods: Center,NorthWest,LockRaster,ByAttribute,Nadir,Viewpoint,Seamline,None
SortField:
SortValue: null
Mosaic Operator: First
Default Compression Quality: 10000
Default Resampling Method: Bilinear
Max Record Count: 1000
Max Image Height: 4100
Max Image Width: 15000
Max Download Image Count: 20
Max Mosaic Image Count: 30
Allow Raster Function: true
Allow Copy: true
Allow Analysis: true
Allow Compute TiePoints: false
Supports Statistics: true
Supports Advanced Queries: true
Use StandardizedQueries: true
Raster Type Infos:
Name: Raster Dataset
Description: Supports all ArcGIS Raster Datasets
Help:
Has Raster Attribute Table: false
Edit Fields Info: null
Ownership Based AccessControl For Rasters: null
Child Resources:
Info
Histograms
Statistics
Key Properties
Legend
Raster Function Infos
Supported Operations:
Export Image
Query
Identify
Measure
Compute Histograms
Compute Statistics Histograms
Get Samples
Compute Class Statistics
Query Boundary
Compute Pixel Location
Compute Angles
Validate
Project