View In:
ArcGIS JavaScript
ArcGIS Online Map Viewer
ArcGIS Earth
ArcMap
View Footprint In:
ArcGIS Online Map Viewer
Service Description:
NOTE: DO NOT DOWNLOAD THE IMAGERY BY USING THE MAP OR DOWNLOAD TOOLS ON THIS ARCGIS HUB ITEM PAGE. IT WILL RESULT IN A PIXELATED ORTHOIMAGE. INSTEAD, DOWNLOAD THE IMAGERY BY
TILE OR BY
COUNTY MOSAIC (2010 - current year).
The NC Orthoimagery Program collects and produces 6-inch (15cm) orthoimagery on a 4-year cycle. Approximately a quarter of the state is flown each year to develop streaming imagery services, 5,000' by 5,000' tiles, and compressed single-file county mosaics. Beginning in 2020, the State started collecting a fourth band (near infrared) of imagery which, when combined with the other 3 bands of red, green, and blue, opens new possibilities for exploration and analysis.
This service contains 3-band, natural color imagery collected by the NC Orthoimagery Program for any given area of North Carolina between 2012 and 2015. The imagery has a pixel resolution of 6 inches with an RMSE of 1.0 ft X and Y. Individual pixel values may have been altered during image processing. Therefore, this service should be used for general reference and viewing. This data is also available as a WMS service. Image analysis requiring examination of individual pixel values is discouraged.
To find specific dates the images were captured use the imagery dates app or download the data.
Viewing the latest imagery
Several web services are also available that depict the latest imagery for any location in the state. These support general viewing and raster analysis and are offered in various protocols including Esri (e.g. REST, SOAP) and OGC (e.g., WMS, WFS, WCS). These can be found by searching using the terms "orthoimagery" and "latest." To help determine which is most suitable, refer to this guide.
Name: Imagery/Orthoimagery_2012_2015
Description:
NOTE: DO NOT DOWNLOAD THE IMAGERY BY USING THE MAP OR DOWNLOAD TOOLS ON THIS ARCGIS HUB ITEM PAGE. IT WILL RESULT IN A PIXELATED ORTHOIMAGE. INSTEAD, DOWNLOAD THE IMAGERY BY
TILE OR BY
COUNTY MOSAIC (2010 - current year).
The NC Orthoimagery Program collects and produces 6-inch (15cm) orthoimagery on a 4-year cycle. Approximately a quarter of the state is flown each year to develop streaming imagery services, 5,000' by 5,000' tiles, and compressed single-file county mosaics. Beginning in 2020, the State started collecting a fourth band (near infrared) of imagery which, when combined with the other 3 bands of red, green, and blue, opens new possibilities for exploration and analysis.
This service contains 3-band, natural color imagery collected by the NC Orthoimagery Program for any given area of North Carolina between 2012 and 2015. The imagery has a pixel resolution of 6 inches with an RMSE of 1.0 ft X and Y. Individual pixel values may have been altered during image processing. Therefore, this service should be used for general reference and viewing. This data is also available as a WMS service. Image analysis requiring examination of individual pixel values is discouraged.
To find specific dates the images were captured use the imagery dates app or download the data.
Viewing the latest imagery
Several web services are also available that depict the latest imagery for any location in the state. These support general viewing and raster analysis and are offered in various protocols including Esri (e.g. REST, SOAP) and OGC (e.g., WMS, WFS, WCS). These can be found by searching using the terms "orthoimagery" and "latest." To help determine which is most suitable, refer to this guide.
Single Fused Map Cache: false
Extent:
XMin: 400000
YMin: 25000
XMax: 3055000
YMax: 1050000
Spatial Reference: 103122
(6543)
Initial Extent:
XMin: 400000
YMin: 25000
XMax: 3055000
YMax: 1050000
Spatial Reference: 103122
(6543)
Full Extent:
XMin: 400000
YMin: 25000
XMax: 3055000
YMax: 1050000
Spatial Reference: 103122
(6543)
Pixel Size X: 0.5
Pixel Size Y: 0.5
Band Count: 3
Pixel Type: U8
RasterFunction Infos: {"rasterFunctionInfos": [{
"name": "None",
"description": "",
"help": ""
}]}
Mensuration Capabilities: Basic
Has Histograms: false
Has Colormap: false
Has Multi Dimensions : false
Rendering Rule:
Min Scale: 0
Max Scale: 0
Copyright Text: NC911, NCCGIA
Service Data Type: esriImageServiceDataTypeProcessed
Min Values: N/A
Max Values: N/A
Mean Values: N/A
Standard Deviation Values: N/A
Object ID Field: objectid
Fields:
-
objectid
(
type: esriFieldTypeOID, alias: objectid
)
-
name
(
type: esriFieldTypeString, alias: name, length: 200
)
-
minps
(
type: esriFieldTypeDouble, alias: minps
)
-
maxps
(
type: esriFieldTypeDouble, alias: maxps
)
-
lowps
(
type: esriFieldTypeDouble, alias: lowps
)
-
highps
(
type: esriFieldTypeDouble, alias: highps
)
-
category
(
type: esriFieldTypeInteger, alias: category
, Coded Values:
[0: Unknown]
, [1: Primary]
, [2: Overview]
, ...6 more...
)
-
tag
(
type: esriFieldTypeString, alias: tag, length: 100
)
-
groupname
(
type: esriFieldTypeString, alias: groupname, length: 100
)
-
productname
(
type: esriFieldTypeString, alias: productname, length: 100
)
-
centerx
(
type: esriFieldTypeDouble, alias: centerx
)
-
centery
(
type: esriFieldTypeDouble, alias: centery
)
-
zorder
(
type: esriFieldTypeInteger, alias: zorder
)
-
shape
(
type: esriFieldTypeGeometry, alias: shape
)
-
date
(
type: esriFieldTypeDate, alias: Date, length: 8
)
-
st_area(shape)
(
type: esriFieldTypeDouble, alias: st_area(shape)
)
-
st_perimeter(shape)
(
type: esriFieldTypeDouble, alias: st_perimeter(shape)
)
Default Mosaic Method: Northwest
Allowed Mosaic Methods: NorthWest,Center,LockRaster,ByAttribute,Nadir,Viewpoint,Seamline,None
SortField:
SortValue: null
Mosaic Operator: First
Default Compression Quality: 75
Default Resampling Method: Bilinear
Max Record Count: 1000
Max Image Height: 4100
Max Image Width: 15000
Max Download Image Count: 20
Max Mosaic Image Count: 20
Allow Raster Function: true
Allow Copy: true
Allow Analysis: true
Allow Compute TiePoints: false
Supports Statistics: true
Supports Advanced Queries: true
Use StandardizedQueries: true
Raster Type Infos:
Name: Raster Dataset
Description: Supports all ArcGIS Raster Datasets
Help:
Has Raster Attribute Table: false
Edit Fields Info: null
Ownership Based AccessControl For Rasters: null
Child Resources:
Info
Statistics
Key Properties
Legend
Raster Function Infos
Supported Operations:
Export Image
Query
Identify
Measure
Compute Histograms
Compute Statistics Histograms
Get Samples
Compute Class Statistics
Query Boundary
Compute Pixel Location
Compute Angles
Validate
Project