View In:
ArcGIS JavaScript
ArcGIS Online Map Viewer
ArcGIS Earth
ArcMap
View Footprint In:
ArcGIS Online Map Viewer
Service Description: The data provide an estimate of flood extent following Hurricane Matthew (2016) across the Piedmont and Coastal Plain of North Carolina. Flooded and non-flooded regions were delineated using a random forest classification model leveraging pre- and post-storm synthetic aperture radar from the European Space Agency's Sentinel-1 sensor, in addition to topography, floodplain, and landcover data. The classification model was trained with USGS and NCDEMS high-water marks, in addition to flooded and non-flooded regions delineated from high-resolution NOAA aerial photography; the model achieved 92% accuracy against an independent withheld sample. This effort was aimed at identifying inland flooding and not storm surge. This dataset is not intended to replace North Carolina's Floodplain Mapping Program hazard projections. For additional details regarding the methods, please see the peer-reviewed publication and data and code archives referenced in the Credits below.
Name: Matthew_Flood_Extent
Description: The data provide an estimate of flood extent following Hurricane Matthew (2016) across the Piedmont and Coastal Plain of North Carolina. Flooded and non-flooded regions were delineated using a random forest classification model leveraging pre- and post-storm synthetic aperture radar from the European Space Agency's Sentinel-1 sensor, in addition to topography, floodplain, and landcover data. The classification model was trained with USGS and NCDEMS high-water marks, in addition to flooded and non-flooded regions delineated from high-resolution NOAA aerial photography; the model achieved 92% accuracy against an independent withheld sample. This effort was aimed at identifying inland flooding and not storm surge. This dataset is not intended to replace North Carolina's Floodplain Mapping Program hazard projections. For additional details regarding the methods, please see the peer-reviewed publication and data and code archives referenced in the Credits below.
Single Fused Map Cache: false
Extent:
XMin: 406823.4248353291
YMin: 2690.2551194123225
XMax: 3070269.541501995
YMax: 1043633.0551194123
Spatial Reference: 102719
(2264)
Initial Extent:
XMin: 406823.4248353291
YMin: 2690.2551194123225
XMax: 3070269.541501995
YMax: 1043633.0551194123
Spatial Reference: 102719
(2264)
Full Extent:
XMin: 406823.4248353291
YMin: 2690.2551194123225
XMax: 3070269.541501995
YMax: 1043633.0551194123
Spatial Reference: 102719
(2264)
Pixel Size X: 65.61666666666666
Pixel Size Y: 65.61666666666666
Band Count: 1
Pixel Type: U8
RasterFunction Infos: {"rasterFunctionInfos": [
{
"name": "matthew",
"description": "A raster function template.",
"help": ""
},
{
"name": "None",
"description": "",
"help": ""
}
]}
Mensuration Capabilities: Basic
Has Histograms: true
Has Colormap: false
Has Multi Dimensions : false
Rendering Rule:
Min Scale: 0
Max Scale: 0
Copyright Text: Schaffer-Smith, D., Myint, S.W., Muenich, R.L., Tong, D., and DeMeester, J.E. 2020. Repeated hurricanes reveal risks and opportunities for social-ecological resilience to flooding and water quality problems. Environmental Science & Technology. Schaffer-Smith, D. 2020. Hurricanes Matthew and Florence: impacts and opportunities to improve floodplain management. Knowledge Network for Biocomplexity. doi:10.5063/F1SB443J. https://knb.ecoinformatics.org/ Schaffer-Smith, D. 2020. Supporting code for: Schaffer-Smith, D., Myint, S.W., Muenich, R.L., Tong, D., & DeMeester, J.E. 2020. Repeated hurricanes reveal risks and opportunities for social-ecological resilience to flooding and water quality problems. Environmental Science & Technology. https://github.com/dschaffersmith/repeatFloodingNC
Service Data Type: esriImageServiceDataTypeGeneric
Min Values: 0
Max Values: 1
Mean Values: 0.08816332857523
Standard Deviation Values: 0.2835322842193
Object ID Field:
Fields:
None
Default Mosaic Method: Center
Allowed Mosaic Methods:
SortField:
SortValue: null
Mosaic Operator: First
Default Compression Quality: 75
Default Resampling Method: Bilinear
Max Record Count: null
Max Image Height: 4100
Max Image Width: 15000
Max Download Image Count: null
Max Mosaic Image Count: null
Allow Raster Function: true
Allow Compute TiePoints: false
Supports Statistics: false
Supports Advanced Queries: false
Use StandardizedQueries: true
Raster Type Infos:
Name: Raster Dataset
Description: Supports all ArcGIS Raster Datasets
Help:
Has Raster Attribute Table: false
Edit Fields Info: null
Ownership Based AccessControl For Rasters: null
Child Resources:
Info
Histograms
Key Properties
Legend
MultiDimensionalInfo
rasterFunctionInfos
Supported Operations:
Export Image
Identify
Measure
Compute Histograms
Compute Statistics Histograms
Get Samples
Compute Class Statistics
Query Boundary
Compute Pixel Location